BEGIN:VCALENDAR
VERSION:2.0
PRODID:-//Living Water Baptist Church - ECPv6.15.20//NONSGML v1.0//EN
CALSCALE:GREGORIAN
METHOD:PUBLISH
X-WR-CALNAME:Living Water Baptist Church
X-ORIGINAL-URL:https://lwbctriad.org
X-WR-CALDESC:Events for Living Water Baptist Church
REFRESH-INTERVAL;VALUE=DURATION:PT1H
X-Robots-Tag:noindex
X-PUBLISHED-TTL:PT1H
BEGIN:VTIMEZONE
TZID:UTC
BEGIN:STANDARD
TZOFFSETFROM:+0000
TZOFFSETTO:+0000
TZNAME:UTC
DTSTART:20220101T000000
END:STANDARD
END:VTIMEZONE
BEGIN:VEVENT
DTSTART;TZID=UTC:20231203T123000
DTEND;TZID=UTC:20231203T140000
DTSTAMP:20260424T095644
CREATED:20231201T092126Z
LAST-MODIFIED:20231201T092127Z
UID:2400-1701606600-1701612000@lwbctriad.org
SUMMARY:Kernersville Christmas Parade
DESCRIPTION:Parade will be on December 3rd! We will meet to carpool to the parade at the church @12:30. \n\n\n\n*NOTE: AM worship service will be at 9:15am. No Sunday school or evening service on Dec. 3rd* \n\n\n\nWe would love for you to join us in this year’s Christmas Parade! If you would like to participate please email Ashley @ ashley.wike@lwbctriad.org or sign-up in the Foyer! \n\n\n\n*We will be packing handout bags and wrapping boxes for the float THIS Sunday @3pm! Any and all help is much appreciated!* \n\n\n\n*Join us in decorating the parade floats Thursday\, November 30th @ 10:30am at the LWBC Shelter.*
URL:https://lwbctriad.org/events-plugin/kernersville-christmas-parade/
LOCATION:Living Water Baptist Church\, 9516 W. Market Street\, Colfax\, North Carolina\, 27235\, United States
ATTACH;FMTTYPE=image/jpeg:https://lwbctriad.org/wp-content/uploads/2023/12/@UnSiyRzx5NgtPew.jpg
END:VEVENT
END:VCALENDAR