BEGIN:VCALENDAR
VERSION:2.0
PRODID:-//Living Water Baptist Church - ECPv6.15.20//NONSGML v1.0//EN
CALSCALE:GREGORIAN
METHOD:PUBLISH
X-ORIGINAL-URL:https://lwbctriad.org
X-WR-CALDESC:Events for Living Water Baptist Church
REFRESH-INTERVAL;VALUE=DURATION:PT1H
X-Robots-Tag:noindex
X-PUBLISHED-TTL:PT1H
BEGIN:VTIMEZONE
TZID:America/New_York
BEGIN:DAYLIGHT
TZOFFSETFROM:-0500
TZOFFSETTO:-0400
TZNAME:EDT
DTSTART:20230312T070000
END:DAYLIGHT
BEGIN:STANDARD
TZOFFSETFROM:-0400
TZOFFSETTO:-0500
TZNAME:EST
DTSTART:20231105T060000
END:STANDARD
BEGIN:DAYLIGHT
TZOFFSETFROM:-0500
TZOFFSETTO:-0400
TZNAME:EDT
DTSTART:20240310T070000
END:DAYLIGHT
BEGIN:STANDARD
TZOFFSETFROM:-0400
TZOFFSETTO:-0500
TZNAME:EST
DTSTART:20241103T060000
END:STANDARD
BEGIN:DAYLIGHT
TZOFFSETFROM:-0500
TZOFFSETTO:-0400
TZNAME:EDT
DTSTART:20250309T070000
END:DAYLIGHT
BEGIN:STANDARD
TZOFFSETFROM:-0400
TZOFFSETTO:-0500
TZNAME:EST
DTSTART:20251102T060000
END:STANDARD
END:VTIMEZONE
BEGIN:VTIMEZONE
TZID:UTC
BEGIN:STANDARD
TZOFFSETFROM:+0000
TZOFFSETTO:+0000
TZNAME:UTC
DTSTART:20220101T000000
END:STANDARD
END:VTIMEZONE
BEGIN:VEVENT
DTSTART;TZID=America/New_York:20240609T103000
DTEND;TZID=America/New_York:20240609T113000
DTSTAMP:20260423T204127
CREATED:20240516T140439Z
LAST-MODIFIED:20240516T140440Z
UID:2600-1717929000-1717932600@lwbctriad.org
SUMMARY:Graduation Sunday
DESCRIPTION:Will be held on June 9th during the AM Service. \n\n\n\nIf you have a child that is graduating\, please email Ashley  \n\n\n\n@ ashley.wike@lwbctriad.org as soon as possible.*
URL:https://lwbctriad.org/events-plugin/graduation-sunday/
LOCATION:Living Water Baptist Church\, 9516 W. Market Street\, Colfax\, North Carolina\, 27235\, United States
ATTACH;FMTTYPE=image/png:https://lwbctriad.org/wp-content/uploads/2024/05/IMG_8784.png
END:VEVENT
BEGIN:VEVENT
DTSTART;TZID=America/New_York:20240602T170000
DTEND;TZID=America/New_York:20240602T183000
DTSTAMP:20260423T204127
CREATED:20240516T135641Z
LAST-MODIFIED:20240516T135643Z
UID:2593-1717347600-1717353000@lwbctriad.org
SUMMARY:Sunday Night Kids - Summer Series
DESCRIPTION:Ages Pre-K through 5th Grade \n\n\n\nSunday Nights @ 5pm \n\n\n\nJoin us on Sunday nights as we sing and learn God’s Word together! We will learn scripture through song\, have devotional time\, trivia games\, crafts and more!* \n\n\n\nKids will learn the Bible\, grow in their relationship with Jesus\, and learn to live out God’s calling on their life!
URL:https://lwbctriad.org/events-plugin/sunday-night-kids-summer-series/
LOCATION:Living Water Baptist Church\, 9516 W. Market Street\, Colfax\, North Carolina\, 27235\, United States
ATTACH;FMTTYPE=image/jpeg:https://lwbctriad.org/wp-content/uploads/2024/05/IMG_8782.jpg
END:VEVENT
BEGIN:VEVENT
DTSTART;TZID=America/New_York:20240602T113000
DTEND;TZID=America/New_York:20240602T120000
DTSTAMP:20260423T204127
CREATED:20240516T142402Z
LAST-MODIFIED:20240516T142404Z
UID:2612-1717327800-1717329600@lwbctriad.org
SUMMARY:VBS Volunteer Meeting
DESCRIPTION:Directly after am service in the Fellowship Hall \n\n\n\n~ VBS T-Shirts will be given out at this meeting!~ \n\n\n\nVBS IMPORTANT DATES \n\n\n\nCraft Prep Nights: \n\n\n\nWednesday\, May 29th 6-8pm \n\n\n\nThursday\, May 30th 10-12N \n\n\n\nWednesday\, June 5th 6-8pm \n\n\n\nThursday\, June 6th 10-12N \n\n\n\nDecorating for VBS: \n\n\n\nJune 17th-21st 6-8pm
URL:https://lwbctriad.org/events-plugin/vbs-volunteer-meeting/
LOCATION:Living Water Baptist Church\, 9516 W. Market Street\, Colfax\, North Carolina\, 27235\, United States
ATTACH;FMTTYPE=image/png:https://lwbctriad.org/wp-content/uploads/2024/05/IMG_8787.png
END:VEVENT
BEGIN:VEVENT
DTSTART;TZID=America/New_York:20240601T140000
DTEND;TZID=America/New_York:20240601T160000
DTSTAMP:20260423T204127
CREATED:20240516T140033Z
LAST-MODIFIED:20240516T140035Z
UID:2597-1717250400-1717257600@lwbctriad.org
SUMMARY:Car Wash Fundraiser for Kids Summer Camp
DESCRIPTION:Summer Camp kids will be holding a fundraiser to help raise money for camp. Show the kids some love and support by bringing your car to the church for a clean shine! \n\n\n\nWe will also be having a bake sale at the event sponsored by Lucy’s Bakeshop! Grab a delicious baked good and enjoy it while getting your car washed.
URL:https://lwbctriad.org/events-plugin/car-wash-fundraiser-for-kids-summer-camp/
LOCATION:Living Water Baptist Church\, 9516 W. Market Street\, Colfax\, North Carolina\, 27235\, United States
ATTACH;FMTTYPE=image/png:https://lwbctriad.org/wp-content/uploads/2024/05/IMG_8783.png
END:VEVENT
BEGIN:VEVENT
DTSTART;TZID=America/New_York:20240526T180000
DTEND;TZID=America/New_York:20240526T193000
DTSTAMP:20260423T204127
CREATED:20240516T141858Z
LAST-MODIFIED:20240516T141859Z
UID:2607-1716746400-1716751800@lwbctriad.org
SUMMARY:Memorial Day Weekend
DESCRIPTION:In honor of Memorial Day\, we will have NO PM Service on campus. \n\n\n\nHowever\, Pastor Terry will be preaching and baptizing Valyn Wike in Taylorsville at Mt. Hebron Baptist Church at 6pm. We would love to have you join us if you can.
URL:https://lwbctriad.org/events-plugin/memorial-day-weekend/
LOCATION:Mt Hebron Baptist Church\, 17 Mt Hebron Church Ct\, Taylorsville\, North Carolina\, 28681\, United States
ATTACH;FMTTYPE=image/jpeg:https://lwbctriad.org/wp-content/uploads/2024/05/IMG_8786.jpg
END:VEVENT
BEGIN:VEVENT
DTSTART;TZID=America/New_York:20240519T170000
DTEND;TZID=America/New_York:20240519T183000
DTSTAMP:20260423T204127
CREATED:20240516T140823Z
LAST-MODIFIED:20240516T140825Z
UID:2604-1716138000-1716143400@lwbctriad.org
SUMMARY:Apologetics Night
DESCRIPTION:Defending the Faith with Mr. Boyd White
URL:https://lwbctriad.org/events-plugin/apologetics-night/
LOCATION:Living Water Baptist Church\, 9516 W. Market Street\, Colfax\, North Carolina\, 27235\, United States
ATTACH;FMTTYPE=image/png:https://lwbctriad.org/wp-content/uploads/2024/05/IMG_8785.png
END:VEVENT
BEGIN:VEVENT
DTSTART;TZID=America/New_York:20240331T113000
DTEND;TZID=America/New_York:20240331T120000
DTSTAMP:20260423T204127
CREATED:20240325T200601Z
LAST-MODIFIED:20240325T200602Z
UID:2578-1711884600-1711886400@lwbctriad.org
SUMMARY:Easter Service
DESCRIPTION:Join us THIS Sunday\, March 31st @ 10:30am for Easter Service! \n\n\n\nHallelujah! He is Risen!
URL:https://lwbctriad.org/events-plugin/easter-service/
LOCATION:Living Water Baptist Church\, 9516 W. Market Street\, Colfax\, North Carolina\, 27235\, United States
ATTACH;FMTTYPE=image/jpeg:https://lwbctriad.org/wp-content/uploads/2024/03/IMG_8207.jpg
END:VEVENT
BEGIN:VEVENT
DTSTART;TZID=America/New_York:20240329T183000
DTEND;TZID=America/New_York:20240329T193000
DTSTAMP:20260423T204127
CREATED:20240325T200303Z
LAST-MODIFIED:20240325T200303Z
UID:2575-1711737000-1711740600@lwbctriad.org
SUMMARY:Good Friday Service
DESCRIPTION:Join us THIS Friday March 29th @ 6:30pm for Good Friday Service.
URL:https://lwbctriad.org/events-plugin/good-friday-service/
LOCATION:Living Water Baptist Church\, 9516 W. Market Street\, Colfax\, North Carolina\, 27235\, United States
ATTACH;FMTTYPE=image/jpeg:https://lwbctriad.org/wp-content/uploads/2024/03/IMG_8206.jpg
END:VEVENT
BEGIN:VEVENT
DTSTART;TZID=America/New_York:20240326T133000
DTEND;TZID=America/New_York:20240326T143000
DTSTAMP:20260423T204127
CREATED:20240325T202018Z
LAST-MODIFIED:20240325T202019Z
UID:2584-1711459800-1711463400@lwbctriad.org
SUMMARY:Zoom Bible Study Class
DESCRIPTION:Lead by Kathy Hoyt on the book of Hebrews \n\n\n\nPlease sign up on the sheet in the foyer with your preferred means of communication.
URL:https://lwbctriad.org/events-plugin/zoom-bible-study-class/
LOCATION:North Carolina
ATTACH;FMTTYPE=image/jpeg:https://lwbctriad.org/wp-content/uploads/2024/03/IMG_8211.jpg
END:VEVENT
BEGIN:VEVENT
DTSTART;TZID=America/New_York:20240303T170000
DTEND;TZID=America/New_York:20240331T170000
DTSTAMP:20260423T204127
CREATED:20240325T201323Z
LAST-MODIFIED:20240325T201534Z
UID:2581-1709485200-1711904400@lwbctriad.org
SUMMARY:Sunday Night Kids Family Series
DESCRIPTION:Ages Pre-K through 5th Grade \n\n\n\nSunday Nights @ 5pm \n\n\n\nJoin us on Sunday nights as we dive into scripture to look at the foundation of family and what that means! We will learn through activities\, games\, crafts\, music\, and more!* \n\n\n\nGod made me special for a special reason. \n\n\n\nGod defined marriage in the beginning.
URL:https://lwbctriad.org/events-plugin/sunday-night-kids-family-series/
LOCATION:Living Water Baptist Church\, 9516 W. Market Street\, Colfax\, North Carolina\, 27235\, United States
ATTACH;FMTTYPE=image/jpeg:https://lwbctriad.org/wp-content/uploads/2024/03/IMG_8208.jpg
END:VEVENT
BEGIN:VEVENT
DTSTART;TZID=America/New_York:20240303T170000
DTEND;TZID=America/New_York:20240303T183000
DTSTAMP:20260423T204127
CREATED:20240222T180517Z
LAST-MODIFIED:20240222T180518Z
UID:2562-1709485200-1709490600@lwbctriad.org
SUMMARY:PJ's & Pancakes
DESCRIPTION:Ages Pre-K through 5th Grade \n\n\n\nSunday Night\, March 3rd @ 5pm \n\n\n\n*Kids\, wear your PJs and get ready to eat some pancakes for dinner as we look into Day 7 of creation!*
URL:https://lwbctriad.org/events-plugin/pjs-pancakes/
LOCATION:Living Water Baptist Church\, 9516 W. Market Street\, Colfax\, North Carolina\, 27235\, United States
ATTACH;FMTTYPE=image/png:https://lwbctriad.org/wp-content/uploads/2024/02/IMG_7963.png
END:VEVENT
BEGIN:VEVENT
DTSTART;TZID=America/New_York:20240225T170000
DTEND;TZID=America/New_York:20240225T183000
DTSTAMP:20260423T204127
CREATED:20240222T180900Z
LAST-MODIFIED:20240222T180901Z
UID:2564-1708880400-1708885800@lwbctriad.org
SUMMARY:Missions Night
DESCRIPTION:THIS Sunday\, February 25th @ 5pm Service \n\n\n\nPastor Peyton Fitzgerald and Michael White from Corner Stone Baptist Church in Monroe\, VA will be joining us to share on what the Lord did on their mission trip and continues to do in their ministry in Nepal. \n\n\n\nYou don’t want to miss this special night.
URL:https://lwbctriad.org/events-plugin/missions-night/
LOCATION:Living Water Baptist Church\, 9516 W. Market Street\, Colfax\, North Carolina\, 27235\, United States
ATTACH;FMTTYPE=image/jpeg:https://lwbctriad.org/wp-content/uploads/2024/02/IMG_7964.jpg
END:VEVENT
BEGIN:VEVENT
DTSTART;TZID=America/New_York:20240224T140000
DTEND;TZID=America/New_York:20240224T160000
DTSTAMP:20260423T204127
CREATED:20240129T204732Z
LAST-MODIFIED:20240129T204733Z
UID:2553-1708783200-1708790400@lwbctriad.org
SUMMARY:Sarah Craig Baby Shower
DESCRIPTION:Up.Up. And Away A Baby Boy Is On The Way ! Join us for a baby shower honoring Sarah Craig.  \n\n\n\nSaturday February 24th @ 2:00 PM – 4:00 PM In Fellowship Hall \n\n\n\nSarah is registered at Babylist \n\n\n\n\nSarah Craig Registry
URL:https://lwbctriad.org/events-plugin/sarah-craig-baby-shower/
LOCATION:Living Water Baptist Church\, 9516 W. Market Street\, Colfax\, North Carolina\, 27235\, United States
ATTACH;FMTTYPE=image/jpeg:https://lwbctriad.org/wp-content/uploads/2024/01/IMG_7803.jpg
END:VEVENT
BEGIN:VEVENT
DTSTART;TZID=America/New_York:20240218T170000
DTEND;TZID=America/New_York:20240218T180000
DTSTAMP:20260423T204127
CREATED:20240110T200031Z
LAST-MODIFIED:20240110T200032Z
UID:2533-1708275600-1708279200@lwbctriad.org
SUMMARY:Night Of Worship
DESCRIPTION:Join us on Sunday\, February 18th at 5pm for a wonderful night of worship!  \n\n\n\nTalk with Pastor Chris to get involved.
URL:https://lwbctriad.org/events-plugin/night-of-worship/
LOCATION:Living Water Baptist Church\, 9516 W. Market Street\, Colfax\, North Carolina\, 27235\, United States
ATTACH;FMTTYPE=image/png:https://lwbctriad.org/wp-content/uploads/2024/01/IMG_7750.png
END:VEVENT
BEGIN:VEVENT
DTSTART;TZID=America/New_York:20240217T100000
DTEND;TZID=America/New_York:20240217T113000
DTSTAMP:20260423T204127
CREATED:20240104T214708Z
LAST-MODIFIED:20240115T204532Z
UID:2520-1708164000-1708169400@lwbctriad.org
SUMMARY:LWBC Women’s Ministry Presents“Journey with Jesus: How Will You Walk With Him in 2024?”
DESCRIPTION:Come join us as we gather in fellowship with our sisters in Christ and discover how to walk closer with Jesus in 2024!  \n\n\n\nLast Day To Register is January 21st
URL:https://lwbctriad.org/events-plugin/lwbc-womens-ministry-presentsjourney-with-jesus-how-will-you-walk-with-him-in-2024/
LOCATION:Living Water Baptist Church\, 9516 W. Market Street\, Colfax\, North Carolina\, 27235\, United States
ATTACH;FMTTYPE=image/png:https://lwbctriad.org/wp-content/uploads/2024/01/IMG_7764.png
END:VEVENT
BEGIN:VEVENT
DTSTART;TZID=America/New_York:20240210T170000
DTEND;TZID=America/New_York:20240210T190000
DTSTAMP:20260423T204127
CREATED:20240115T203652Z
LAST-MODIFIED:20240115T203702Z
UID:2538-1707584400-1707591600@lwbctriad.org
SUMMARY:Senior Adult Valentine Social
DESCRIPTION:Come join us for food\, fellowship\, and fun activities  \n\n\n\nAges 60 + \n\n\n\nRSVP by January 28th to Jean White \n\n\n\nJean White: (336)-991-6454
URL:https://lwbctriad.org/events-plugin/senior-adult-valentine-social/
LOCATION:Living Water Baptist Church\, 9516 W. Market Street\, Colfax\, North Carolina\, 27235\, United States
ATTACH;FMTTYPE=image/png:https://lwbctriad.org/wp-content/uploads/2024/01/IMG_7763.png
END:VEVENT
BEGIN:VEVENT
DTSTART;TZID=America/New_York:20240208T183000
DTEND;TZID=America/New_York:20240208T193000
DTSTAMP:20260423T204127
CREATED:20240129T203624Z
LAST-MODIFIED:20240129T203624Z
UID:2551-1707417000-1707420600@lwbctriad.org
SUMMARY:Young Couples Bible Study " Uncommon Marriage"
DESCRIPTION:Join us for this young couples Bible Study as we learn about lasting love and overcoming life’s obstacles.  \n\n\n\n6 week study led by Rob Worrell \n\n\n\nChildcare is provided. \n\n\n\n*Please specify if needed on the sign-up sheet.* \n\n\n\nSign-up sheet is located in the foyer!
URL:https://lwbctriad.org/events-plugin/young-couples-bible-study-uncommon-marriage/
LOCATION:Living Water Baptist Church\, 9516 W. Market Street\, Colfax\, North Carolina\, 27235\, United States
ATTACH;FMTTYPE=image/png:https://lwbctriad.org/wp-content/uploads/2024/01/IMG_7802.png
END:VEVENT
BEGIN:VEVENT
DTSTART;TZID=America/New_York:20240204T120000
DTEND;TZID=America/New_York:20240204T130000
DTSTAMP:20260423T204127
CREATED:20240129T203138Z
LAST-MODIFIED:20240129T203139Z
UID:2549-1707048000-1707051600@lwbctriad.org
SUMMARY:Widow's Valentine Tea and Social
DESCRIPTION:hosted by the LWBC Kids \n\n\n\nTHIS Sunday\, February 4th \n\n\n\ndirectly after the am worship service in the fellowship hall \n\n\n\n*The children will be serving a lite brunch and tea at the event*
URL:https://lwbctriad.org/events-plugin/widows-valentine-tea-and-social-2/
LOCATION:Living Water Baptist Church\, 9516 W. Market Street\, Colfax\, North Carolina\, 27235\, United States
ATTACH;FMTTYPE=image/png:https://lwbctriad.org/wp-content/uploads/2024/01/IMG_7801.png
END:VEVENT
BEGIN:VEVENT
DTSTART;TZID=America/New_York:20240203T190000
DTEND;TZID=America/New_York:20240203T210000
DTSTAMP:20260423T204127
CREATED:20240110T195731Z
LAST-MODIFIED:20240110T195732Z
UID:2528-1706986800-1706994000@lwbctriad.org
SUMMARY:Family Night at HPU Basketball
DESCRIPTION:Join your Living Water family for an afternoon out at the ball game @ High Point University! \n\n\n\nArrive at the HPU General Parking Lot across from the Qubein Arena at 6pm! We will ride a shuttle to the arena as a group to receive our reserved tickets. Game starts at 7pm.* \n\n\n\nSign Up In Foyer By January 21st To Reserve A Seat!
URL:https://lwbctriad.org/events-plugin/family-night-at-hpu-basketball/
LOCATION:High Point University\, 1 N University Pkwy\, High Point\, North Carolina\, 27268\, United States
ATTACH;FMTTYPE=image/png:https://lwbctriad.org/wp-content/uploads/2024/01/IMG_7751.png
END:VEVENT
BEGIN:VEVENT
DTSTART;TZID=America/New_York:20240101T170000
DTEND;TZID=America/New_York:20240131T170000
DTSTAMP:20260423T204127
CREATED:20240104T195117Z
LAST-MODIFIED:20240104T195118Z
UID:2492-1704128400-1706720400@lwbctriad.org
SUMMARY:LWBC KIDS Creation Series
DESCRIPTION:Join us on Sunday nights as we dive into scripture with engaging and interactive lessons that shows us how good God is! He is Creator! \n\n\n\nAges Pre-K through 5th Grade
URL:https://lwbctriad.org/events-plugin/lwbc-kids-creation-series/
LOCATION:Living Water Baptist Church\, 9516 W. Market Street\, Colfax\, North Carolina\, 27235\, United States
ATTACH;FMTTYPE=image/png:https://lwbctriad.org/wp-content/uploads/2024/01/IMG_7726.png
END:VEVENT
BEGIN:VEVENT
DTSTART;TZID=UTC:20231224T170000
DTEND;TZID=UTC:20231224T180000
DTSTAMP:20260423T204127
CREATED:20231201T093039Z
LAST-MODIFIED:20231201T093039Z
UID:2404-1703437200-1703440800@lwbctriad.org
SUMMARY:Christmas Eve Service
DESCRIPTION:We will have NO Sunday School on December 24th. We will have regular morning service at 10:30am as well as Christmas Eve service that evening at 5pm! \n\n\n\nWe look forward to celebrating Christmas with you!
URL:https://lwbctriad.org/events-plugin/christmas-eve-service/
LOCATION:Living Water Baptist Church\, 9516 W. Market Street\, Colfax\, North Carolina\, 27235\, United States
ATTACH;FMTTYPE=image/jpeg:https://lwbctriad.org/wp-content/uploads/2023/12/@UnSidDvR7eD6pf8.jpg
END:VEVENT
BEGIN:VEVENT
DTSTART;TZID=UTC:20231217T170000
DTEND;TZID=UTC:20231217T183000
DTSTAMP:20260423T204127
CREATED:20231201T092646Z
LAST-MODIFIED:20231202T151918Z
UID:2402-1702832400-1702837800@lwbctriad.org
SUMMARY:Living Christmas Tree
DESCRIPTION:Come and join us! You don’t want to miss this special night of worship! \n\n\n\nDecember 15th & 16th @ Friendly Avenue Baptist Church \n\n\n\nDecember 17th @ Living Water Baptist Church @ 5:00pm
URL:https://lwbctriad.org/events-plugin/living-christmas-tree/
LOCATION:Living Water Baptist Church\, 9516 W. Market Street\, Colfax\, North Carolina\, 27235\, United States
ATTACH;FMTTYPE=image/jpeg:https://lwbctriad.org/wp-content/uploads/2023/12/@UnSiQ1N9vX2Sp1g-268-692.jpg
END:VEVENT
BEGIN:VEVENT
DTSTART;TZID=UTC:20231214T183000
DTEND;TZID=UTC:20231214T193000
DTSTAMP:20260423T204127
CREATED:20231201T091714Z
LAST-MODIFIED:20231201T091729Z
UID:2396-1702578600-1702582200@lwbctriad.org
SUMMARY:LWBC Kids Christmas Carols for Nursing Home
DESCRIPTION:LWBC Kids will be heading to Kerner Ridge Assisted Living to sing Christmas Carols and deliver Christmas surprises on Thursday.
URL:https://lwbctriad.org/events-plugin/lwbc-kids-christmas-carols-for-nursing-home/
LOCATION:Kerner Ridge Assisted Living\, 250 Hopkins Rd\, Kernersville\, North Carolina\, 27284\, United States
ATTACH;FMTTYPE=image/png:https://lwbctriad.org/wp-content/uploads/2023/12/Christmas-Caroling-Kids-1.png
END:VEVENT
BEGIN:VEVENT
DTSTART;TZID=UTC:20231208T173000
DTEND;TZID=UTC:20231208T193000
DTSTAMP:20260423T204127
CREATED:20231201T091159Z
LAST-MODIFIED:20231201T091200Z
UID:2392-1702056600-1702063800@lwbctriad.org
SUMMARY:Kids Christmas Movie Night
DESCRIPTION:Doors open at 5pm \n\n\n\nKids\, invite a friend and join us for a night to celebrate the true meaning of Christmas! The night will be full of songs\, games\, popcorn\, and of course the movie! It will be an unforgettable night to kick-off the Christmas season! REGISTER TODAY! \n\n\n\n*Registration link: https://lwbc.breezechms.com/form/LWBCKidsChristmasMovie
URL:https://lwbctriad.org/events-plugin/kids-christmas-movie-night/
LOCATION:Living Water Baptist Church\, 9516 W. Market Street\, Colfax\, North Carolina\, 27235\, United States
ATTACH;FMTTYPE=image/jpeg:https://lwbctriad.org/wp-content/uploads/2023/12/mv5bntm3m2yxngqtnja1mi00owmzlwe0yjatodvkzwm4mdhimzzixkeyxkfqcgdeqxvyotc5mdi5nje40._v1_sx1777_cr001777999_al_-920.jpg
END:VEVENT
BEGIN:VEVENT
DTSTART;TZID=UTC:20231203T123000
DTEND;TZID=UTC:20231203T140000
DTSTAMP:20260423T204127
CREATED:20231201T092126Z
LAST-MODIFIED:20231201T092127Z
UID:2400-1701606600-1701612000@lwbctriad.org
SUMMARY:Kernersville Christmas Parade
DESCRIPTION:Parade will be on December 3rd! We will meet to carpool to the parade at the church @12:30. \n\n\n\n*NOTE: AM worship service will be at 9:15am. No Sunday school or evening service on Dec. 3rd* \n\n\n\nWe would love for you to join us in this year’s Christmas Parade! If you would like to participate please email Ashley @ ashley.wike@lwbctriad.org or sign-up in the Foyer! \n\n\n\n*We will be packing handout bags and wrapping boxes for the float THIS Sunday @3pm! Any and all help is much appreciated!* \n\n\n\n*Join us in decorating the parade floats Thursday\, November 30th @ 10:30am at the LWBC Shelter.*
URL:https://lwbctriad.org/events-plugin/kernersville-christmas-parade/
LOCATION:Living Water Baptist Church\, 9516 W. Market Street\, Colfax\, North Carolina\, 27235\, United States
ATTACH;FMTTYPE=image/jpeg:https://lwbctriad.org/wp-content/uploads/2023/12/@UnSiyRzx5NgtPew.jpg
END:VEVENT
END:VCALENDAR