BEGIN:VCALENDAR
VERSION:2.0
PRODID:-//Living Water Baptist Church - ECPv6.15.20//NONSGML v1.0//EN
CALSCALE:GREGORIAN
METHOD:PUBLISH
X-ORIGINAL-URL:https://lwbctriad.org
X-WR-CALDESC:Events for Living Water Baptist Church
REFRESH-INTERVAL;VALUE=DURATION:PT1H
X-Robots-Tag:noindex
X-PUBLISHED-TTL:PT1H
BEGIN:VTIMEZONE
TZID:America/New_York
BEGIN:DAYLIGHT
TZOFFSETFROM:-0500
TZOFFSETTO:-0400
TZNAME:EDT
DTSTART:20230312T070000
END:DAYLIGHT
BEGIN:STANDARD
TZOFFSETFROM:-0400
TZOFFSETTO:-0500
TZNAME:EST
DTSTART:20231105T060000
END:STANDARD
BEGIN:DAYLIGHT
TZOFFSETFROM:-0500
TZOFFSETTO:-0400
TZNAME:EDT
DTSTART:20240310T070000
END:DAYLIGHT
BEGIN:STANDARD
TZOFFSETFROM:-0400
TZOFFSETTO:-0500
TZNAME:EST
DTSTART:20241103T060000
END:STANDARD
BEGIN:DAYLIGHT
TZOFFSETFROM:-0500
TZOFFSETTO:-0400
TZNAME:EDT
DTSTART:20250309T070000
END:DAYLIGHT
BEGIN:STANDARD
TZOFFSETFROM:-0400
TZOFFSETTO:-0500
TZNAME:EST
DTSTART:20251102T060000
END:STANDARD
BEGIN:DAYLIGHT
TZOFFSETFROM:-0500
TZOFFSETTO:-0400
TZNAME:EDT
DTSTART:20260308T070000
END:DAYLIGHT
BEGIN:STANDARD
TZOFFSETFROM:-0400
TZOFFSETTO:-0500
TZNAME:EST
DTSTART:20261101T060000
END:STANDARD
END:VTIMEZONE
BEGIN:VTIMEZONE
TZID:UTC
BEGIN:STANDARD
TZOFFSETFROM:+0000
TZOFFSETTO:+0000
TZNAME:UTC
DTSTART:20230101T000000
END:STANDARD
END:VTIMEZONE
BEGIN:VEVENT
DTSTART;TZID=America/New_York:20250322T090000
DTEND;TZID=America/New_York:20250322T110000
DTSTAMP:20260423T164202
CREATED:20250211T174113Z
LAST-MODIFIED:20250211T174114Z
UID:2760-1742634000-1742641200@lwbctriad.org
SUMMARY:VBS Training
DESCRIPTION:Join us for VBS training on March 22nd at 9:00 AM! We will cover everything you need to know to be fully prepared for an amazing Vacation Bible School experience this year. We look forward to seeing you there and getting ready for an unforgettable VBS!
URL:https://lwbctriad.org/events-plugin/vbs-training/
LOCATION:Living Water Baptist Church\, 9516 W. Market Street\, Colfax\, North Carolina\, 27235\, United States
ATTACH;FMTTYPE=image/png:https://lwbctriad.org/wp-content/uploads/2025/02/VBS-training.png
END:VEVENT
BEGIN:VEVENT
DTSTART;TZID=America/New_York:20250309T000000
DTEND;TZID=America/New_York:20250309T010000
DTSTAMP:20260423T164202
CREATED:20250211T175440Z
LAST-MODIFIED:20250211T175441Z
UID:2766-1741478400-1741482000@lwbctriad.org
SUMMARY:Daylight Savings (Spring Forward)
DESCRIPTION:Set Your Clocks forward on March 9th
URL:https://lwbctriad.org/events-plugin/daylight-savings-spring-forward/
LOCATION:North Carolina
ATTACH;FMTTYPE=image/png:https://lwbctriad.org/wp-content/uploads/2025/02/Spring-Forward.png
END:VEVENT
BEGIN:VEVENT
DTSTART;TZID=America/New_York:20250209T120000
DTEND;TZID=America/New_York:20250209T140000
DTSTAMP:20260423T164202
CREATED:20250131T174108Z
LAST-MODIFIED:20250131T174109Z
UID:2751-1739102400-1739109600@lwbctriad.org
SUMMARY:Widow's Tea
DESCRIPTION:hosted by the LWBC Kids \n\n\n\nSunday\, February 9th \n\n\n\ndirectly after the am worship service in the fellowship hall \n\n\n\n*The children will be serving a lite brunch and tea at the event*
URL:https://lwbctriad.org/events-plugin/widows-tea/
LOCATION:North Carolina
ATTACH;FMTTYPE=image/png:https://lwbctriad.org/wp-content/uploads/2025/01/IMG_1993.png
END:VEVENT
BEGIN:VEVENT
DTSTART;TZID=America/New_York:20250208T080000
DTEND;TZID=America/New_York:20250208T093000
DTSTAMP:20260423T164202
CREATED:20250131T173514Z
LAST-MODIFIED:20250131T173515Z
UID:2748-1739001600-1739007000@lwbctriad.org
SUMMARY:Men's Breakfast
DESCRIPTION:Saturday\, February 8th \n\n\n\n8:00am-9:30am \n\n\n\nTopic: Financial Wisdom\, passing experience on to the next generation \n\n\n\n *Sign-up is in the Foyer!*
URL:https://lwbctriad.org/events-plugin/mens-breakfast/
LOCATION:North Carolina
ATTACH;FMTTYPE=image/png:https://lwbctriad.org/wp-content/uploads/2025/01/IMG_1991.png
END:VEVENT
BEGIN:VEVENT
DTSTART;TZID=America/New_York:20250207T173000
DTEND;TZID=America/New_York:20250207T200000
DTSTAMP:20260423T164202
CREATED:20250131T173041Z
LAST-MODIFIED:20250131T173042Z
UID:2745-1738949400-1738958400@lwbctriad.org
SUMMARY:Parents Night Out
DESCRIPTION:Friday\, February 7th from 5:30-8:00pm \n\n\n\nAges: Toddlers-5th Grade \n\n\n\nEnjoy a night out together while we take care of the kids! \n\n\n\nYour kids will enjoy music\, games\, activities\, and pizza while learning just how much Jesus truly loves them! \n\n\n\n*Sign-up in the Foyer by THIS SUNDAY\, February 2nd! \n\n\n\nContact Ashley @ ashley.wike@lwbctriad.org if you have any questions.
URL:https://lwbctriad.org/events-plugin/parents-night-out/
LOCATION:North Carolina
ATTACH;FMTTYPE=image/png:https://lwbctriad.org/wp-content/uploads/2025/01/IMG_1990-2.png
END:VEVENT
BEGIN:VEVENT
DTSTART;TZID=America/New_York:20250118T140000
DTEND;TZID=America/New_York:20250118T160000
DTSTAMP:20260423T164202
CREATED:20241231T201828Z
LAST-MODIFIED:20241231T201828Z
UID:2734-1737208800-1737216000@lwbctriad.org
SUMMARY:Lyndsey Oakley's Baby Shower
DESCRIPTION:Saturday\, January 18 | 2-4 pm \n\n\n\n@ LWBC (Fellowship Hall) \n\n\n\nLyndsey is registered at Amazon
URL:https://lwbctriad.org/events-plugin/lyndsey-oakleys-baby-shower/
LOCATION:Living Water Baptist Church\, 9516 W. Market Street\, Colfax\, North Carolina\, 27235\, United States
ATTACH;FMTTYPE=image/png:https://lwbctriad.org/wp-content/uploads/2024/12/Baby-Shower.png
END:VEVENT
BEGIN:VEVENT
DTSTART;TZID=America/New_York:20250108T184500
DTEND;TZID=America/New_York:20250108T200000
DTSTAMP:20260423T164202
CREATED:20241231T202208Z
LAST-MODIFIED:20241231T202209Z
UID:2737-1736361900-1736366400@lwbctriad.org
SUMMARY:Choir Practice Returns
DESCRIPTION:A GREAT time to join!
URL:https://lwbctriad.org/events-plugin/choir-practice-returns/
LOCATION:Living Water Baptist Church\, 9516 W. Market Street\, Colfax\, North Carolina\, 27235\, United States
ATTACH;FMTTYPE=image/png:https://lwbctriad.org/wp-content/uploads/2024/12/Choir-Practice.png
END:VEVENT
BEGIN:VEVENT
DTSTART;TZID=America/New_York:20241224T170000
DTEND;TZID=America/New_York:20241224T190000
DTSTAMP:20260423T164202
CREATED:20241119T002548Z
LAST-MODIFIED:20241119T002549Z
UID:2704-1735059600-1735066800@lwbctriad.org
SUMMARY:Christmas Eve Service
DESCRIPTION:Christmas Eve Service will be at 5pm. \n\n\n\nWe look forward to celebrating the birth of Jesus with you!
URL:https://lwbctriad.org/events-plugin/christmas-eve-service-2/
LOCATION:Living Water Baptist Church\, 9516 W. Market Street\, Colfax\, North Carolina\, 27235\, United States
ATTACH;FMTTYPE=image/jpeg:https://lwbctriad.org/wp-content/uploads/2024/11/IMG_1060-1-scaled.jpg
END:VEVENT
BEGIN:VEVENT
DTSTART;TZID=America/New_York:20241224T170000
DTEND;TZID=America/New_York:20241224T190000
DTSTAMP:20260423T164202
CREATED:20241108T170814Z
LAST-MODIFIED:20241108T170815Z
UID:2686-1735059600-1735066800@lwbctriad.org
SUMMARY:LWBC Kids involvement in the Christmas Eve Service!
DESCRIPTION:LWBC Kids sign-up today to be a part of the Christmas Eve service! \n\n\n\nYou don’t want to miss being a part of this special evening service! \n\n\n\nSign-up sheet is located at the kid check-in desk in the Sunday school building or you can contact Ashley Wike at (704)-880-4723 or by emailing her at ashley.wike@lwbctriad.org \n\n\n\nDeadline to sign-up is November 17th!
URL:https://lwbctriad.org/events-plugin/lwbc-kids-involvement-in-the-christmas-eve-service/
LOCATION:North Carolina
ATTACH;FMTTYPE=image/png:https://lwbctriad.org/wp-content/uploads/2024/11/IMG_0912.png
END:VEVENT
BEGIN:VEVENT
DTSTART;TZID=America/New_York:20241219T100000
DTEND;TZID=America/New_York:20241219T163000
DTSTAMP:20260423T164202
CREATED:20241119T001049Z
LAST-MODIFIED:20241119T001050Z
UID:2697-1734602400-1734625800@lwbctriad.org
SUMMARY:Christmas Project With FBC Swannanoa
DESCRIPTION:We are collecting toys and the following clothing items for preteens (10-12yr. olds) \n\n\n\n– new toys\, pj sets\, coats\, underwear\, socks\, gloves\, scarves. \n\n\n\nAll donations are due at the church by December 1st! \n\n\n\nWe need volunteers to help us deliver the donations the first week of December.  \n\n\n\nThere is also an opportunity to serve at the event on December 19th (10am-4:30pm). Please let Ashley know THIS week if you would like to go up to serve so she can let Swannanoa know. 
URL:https://lwbctriad.org/events-plugin/christmas-project-with-fbc-swannanoa/
LOCATION:North Carolina
ATTACH;FMTTYPE=image/png:https://lwbctriad.org/wp-content/uploads/2024/11/IMG_1058.png
END:VEVENT
BEGIN:VEVENT
DTSTART;TZID=America/New_York:20241213T183000
DTEND;TZID=America/New_York:20241215T200000
DTSTAMP:20260423T164202
CREATED:20241119T001851Z
LAST-MODIFIED:20241119T001852Z
UID:2700-1734114600-1734292800@lwbctriad.org
SUMMARY:Christmas Choir Performance
DESCRIPTION:The Majesty of Christmas Performances will be: \n\n\n\nDecember 13th 6:30pm at FABC \n\n\n\nDecember 14th 2:00pm & 6:30pm at FABC \n\n\n\nDecember 15th 5:00pm at LWBC! \n\n\n\nFABC performances require free tickets for admission. Visit https://friendlyavenue.com/ to get a ticket.
URL:https://lwbctriad.org/events-plugin/christmas-choir-performance/
LOCATION:North Carolina
ATTACH;FMTTYPE=image/jpeg:https://lwbctriad.org/wp-content/uploads/2024/11/IMG_1059-1-scaled.jpg
END:VEVENT
BEGIN:VEVENT
DTSTART;TZID=America/New_York:20241213T180000
DTEND;TZID=America/New_York:20241213T210000
DTSTAMP:20260423T164202
CREATED:20241108T170426Z
LAST-MODIFIED:20241108T170427Z
UID:2684-1734112800-1734123600@lwbctriad.org
SUMMARY:Seniors On The Go
DESCRIPTION:Seniors On The Go Christmas Fellowship and Dinner \n\n\n\nFriday December 13\,2024 \n\n\n\n6:00PM-9:00PM \n\n\n\nCover Dish Dinner Provided \n\n\n\nGift Exchange: Please bring a wrapped gift ($20.00 Max) \n\n\n\nSign-Up Sheet in church foyer : Please sign up by December 1st
URL:https://lwbctriad.org/events-plugin/seniors-on-the-go-2/
LOCATION:North Carolina
ATTACH;FMTTYPE=image/png:https://lwbctriad.org/wp-content/uploads/2024/10/IMG_0612.png
END:VEVENT
BEGIN:VEVENT
DTSTART;TZID=America/New_York:20241208T160000
DTEND;TZID=America/New_York:20241208T180000
DTSTAMP:20260423T164202
CREATED:20241119T000444Z
LAST-MODIFIED:20241119T000446Z
UID:2694-1733673600-1733680800@lwbctriad.org
SUMMARY:Gingerbread Bash
DESCRIPTION:Come join us on December 8th for the Gingerbread Bash- a family event! It’s a super fun\, hands-on way for your family to celebrate the real reason for the Christmas season! Together\, we’re going to build and decorate gingerbread nativities while hearing the Christmas story from the Bible. We will also sing songs\, play games\, and enjoy hot cocoa and cookies. \n\n\n\nRegister today by clicking the link below:  \n\n\n\nhttps://lwbc.breezechms.com/form/2e62be \n\n\n\n*There is something for everyone at this event! If you would like to help with this event please reach out to Ashley Wike @ ashley.wike@lwbctriad.org*
URL:https://lwbctriad.org/events-plugin/gingerbread-bash/
LOCATION:North Carolina
ATTACH;FMTTYPE=image/jpeg:https://lwbctriad.org/wp-content/uploads/2024/11/IMG_1057.jpg
END:VEVENT
BEGIN:VEVENT
DTSTART;TZID=America/New_York:20241124T170000
DTEND;TZID=America/New_York:20241124T190000
DTSTAMP:20260423T164202
CREATED:20241024T164854Z
LAST-MODIFIED:20241024T164855Z
UID:2662-1732467600-1732474800@lwbctriad.org
SUMMARY:Church-wide Thanksgiving Fellowship
DESCRIPTION:Join us for a special Church-Wide Thanksgiving Fellowship on November 24th at 5 PM! Let’s come together as a church to share in gratitude\, enjoy delicious food\, and celebrate the blessings God has given us. All are welcome—bring your family\, friends\, and a heart full of thanks as we gather for a time of fellowship and joy. Don’t miss this chance to connect and give thanks! Sign-Up sheet is in the foyer.
URL:https://lwbctriad.org/events-plugin/church-wide-thanksgiving-fellowship/
LOCATION:Living Water Baptist Church\, 9516 W. Market Street\, Colfax\, North Carolina\, 27235\, United States
ATTACH;FMTTYPE=image/png:https://lwbctriad.org/wp-content/uploads/2024/10/IMG_0614.png
END:VEVENT
BEGIN:VEVENT
DTSTART;TZID=America/New_York:20241117T080000
DTEND;TZID=America/New_York:20241117T170000
DTSTAMP:20260423T164202
CREATED:20241024T165703Z
LAST-MODIFIED:20241024T165704Z
UID:2669-1731830400-1731862800@lwbctriad.org
SUMMARY:LWBC Missions
DESCRIPTION:Get involved with LWBC Missions by taking part of these wonderful mission outreach opportunities below:  \n\n\n\nLWBC Homeless Ministry:  \n\n\n\nNeeds: Cases of water\, sodas\, boxes of trash bags for them to carry their clothes around in\, food items (individual bags of chips\, cookies\, bulk deli meat\, bread) or donate $ for us to purchase items from Sam’s Club. \n\n\n\n*Please place donations in or next to the box located in the Fellowship Hall. Contact Lyndsey Oakley if you have any questions.* \n\n\n\nOperation Christmas Child: \n\n\n\nWe will be collecting O.C.C. boxes again this year! Boxes and labels can be found in the foyer along with a flyer of suggested gift items. \n\n\n\n*Pre-filled boxes will be due Sunday\, November 17th* \n\n\n\nOut of 11 million shoe boxes given in 2023\, 2.5 million children made a commitment to Christ! Let’s help in sharing the Gospel around the world!
URL:https://lwbctriad.org/events-plugin/lwbc-missions/
LOCATION:North Carolina
ATTACH;FMTTYPE=image/jpeg:https://lwbctriad.org/wp-content/uploads/2024/10/IMG_0613.jpg
END:VEVENT
BEGIN:VEVENT
DTSTART;TZID=America/New_York:20241110T170000
DTEND;TZID=America/New_York:20241110T190000
DTSTAMP:20260423T164202
CREATED:20241108T171109Z
LAST-MODIFIED:20241108T171110Z
UID:2689-1731258000-1731265200@lwbctriad.org
SUMMARY:Sunday Night Kids
DESCRIPTION:Ages Pre-K through 5th Grade \n\n\n\nSunday Nights @ 5pm \n\n\n\n*Join us THIS Sunday\, November 10th as we: \n\n\n\n-pack up Operation Christmas Child boxes together \n\n\n\n-spend time in His Word and learning the importance of sharing God’s love and the Gospel \n\n\n\n-hear personal testimonies from those who received a box. \n\n\n\n**If you can bring hygiene items\, notebooks/crayons\, water bottles\, washcloths\, etc. to add to the boxes. We will be adding in WOW items and packing up donations.**
URL:https://lwbctriad.org/events-plugin/sunday-night-kids/
LOCATION:North Carolina
ATTACH;FMTTYPE=image/jpeg:https://lwbctriad.org/wp-content/uploads/2024/11/IMG_0914.jpg
END:VEVENT
BEGIN:VEVENT
DTSTART;TZID=America/New_York:20241109T113000
DTEND;TZID=America/New_York:20241109T150000
DTSTAMP:20260423T164202
CREATED:20241108T164156Z
LAST-MODIFIED:20241108T164157Z
UID:2674-1731151800-1731164400@lwbctriad.org
SUMMARY:M.O.T.R
DESCRIPTION:THIS Saturday\, November 9th \n\n\n\nWe will enjoy a lunch fellowship together at Chick-fil-a off of Battleground Ave. and then head over to the Golden Ticket Cinema for a 1pm showing of the movie THE BEST CHRISTMAS PAGEANT EVER! \n\n\n\n**SIGN-UP today by contacting Jill West @ (336)-681-1460. Deadline to sign-up is THIS Wednesday\, November 6th. **
URL:https://lwbctriad.org/events-plugin/m-o-t-r/
LOCATION:North Carolina
ATTACH;FMTTYPE=image/jpeg:https://lwbctriad.org/wp-content/uploads/2024/11/IMG_0910.jpg
END:VEVENT
BEGIN:VEVENT
DTSTART;TZID=America/New_York:20241107T080000
DTEND;TZID=America/New_York:20241107T170000
DTSTAMP:20260423T164202
CREATED:20241108T164656Z
LAST-MODIFIED:20241108T164657Z
UID:2676-1730966400-1730998800@lwbctriad.org
SUMMARY:Seniors On The Go
DESCRIPTION:SAVE THE DATES: \n\n\n\nTHIS Thursday\, November 7 \n\n\n\nTrip to Southern Supreme Fruit Cake in Bear Creek with lunch to follow \n\n\n\nFriday\, December 13 \n\n\n\nChristmas Party at LWBC
URL:https://lwbctriad.org/events-plugin/seniors-on-the-go-3/
LOCATION:North Carolina
ATTACH;FMTTYPE=image/png:https://lwbctriad.org/wp-content/uploads/2024/11/IMG_0612.png
END:VEVENT
BEGIN:VEVENT
DTSTART;TZID=America/New_York:20241026T150000
DTEND;TZID=America/New_York:20241026T160000
DTSTAMP:20260423T164202
CREATED:20241011T230011Z
LAST-MODIFIED:20241011T230016Z
UID:2659-1729954800-1729958400@lwbctriad.org
SUMMARY:Fall Family Fellowship
DESCRIPTION:with Pumpkin Gospel Project for kids and families! \n\n\n\nSaturday\, October 26th \n\n\n\nKid event: Starts at 3pm \n\n\n\nCook-out: 4-6pm \n\n\n\n**Starting at 3pm we will be having a special time for kids and families to participate in the Pumpkin Gospel Project.** \n\n\n\nCome pick a pumpkin out of the “field” and get ready to carve your way through the Gospel. This is a hands on fun activity for the entire family! You will be able to take the lesson home to share with your neighbors and community. The event will end with roasting smores by the fire!  A sign-up to participate in this FREE family event will be in the foyer! Deadline to sign-up is October 20th.  \n\n\n\n**BBQ Dinner and Fellowship will be from 4-6pm at the LWBC Shelter**  \n\n\n\nSign-up sheet for the cookout is located in the foyer
URL:https://lwbctriad.org/events-plugin/fall-family-fellowship/
LOCATION:North Carolina
ATTACH;FMTTYPE=image/jpeg:https://lwbctriad.org/wp-content/uploads/2024/10/@PeXi1366883.jpg
END:VEVENT
BEGIN:VEVENT
DTSTART;TZID=America/New_York:20241022T080000
DTEND;TZID=America/New_York:20241025T170000
DTSTAMP:20260423T164202
CREATED:20240712T210351Z
LAST-MODIFIED:20240712T210400Z
UID:2619-1729584000-1729875600@lwbctriad.org
SUMMARY:Ark Encounter Church Trip
DESCRIPTION:More Details To Come!
URL:https://lwbctriad.org/events-plugin/ark-encounter-church-trip/
LOCATION:North Carolina
ATTACH;FMTTYPE=image/jpeg:https://lwbctriad.org/wp-content/uploads/2024/07/IMG_9500.jpg
END:VEVENT
BEGIN:VEVENT
DTSTART;TZID=America/New_York:20241005T170000
DTEND;TZID=America/New_York:20241005T190000
DTSTAMP:20260423T164202
CREATED:20240912T191523Z
LAST-MODIFIED:20240912T191524Z
UID:2648-1728147600-1728154800@lwbctriad.org
SUMMARY:Woman's Ministry Fall Refresh
DESCRIPTION:Come on down for a night of Food\, Fun and Fellowship. \n\n\n\n*Sign-up today in the foyer or by scanning the QR Code on the flyers. Flyers are located in the Foyer* \n\n\n\nDeadline to sign-up is September 22nd!
URL:https://lwbctriad.org/events-plugin/womans-ministry-fall-refresh/
LOCATION:Living Water Baptist Church\, 9516 W. Market Street\, Colfax\, North Carolina\, 27235\, United States
ATTACH;FMTTYPE=image/jpeg:https://lwbctriad.org/wp-content/uploads/2024/09/IMG_6284-scaled.jpg
END:VEVENT
BEGIN:VEVENT
DTSTART;TZID=America/New_York:20240928T160000
DTEND;TZID=America/New_York:20240928T170000
DTSTAMP:20260423T164202
CREATED:20240818T043134Z
LAST-MODIFIED:20240818T043135Z
UID:2643-1727539200-1727542800@lwbctriad.org
SUMMARY:Middle Of The Road Outing
DESCRIPTION:SAVE THE DATE!!! \n\n\n\nDate: Saturday\, September 28th \n\n\n\nMore details to come!
URL:https://lwbctriad.org/events-plugin/middle-of-the-road-outing/
LOCATION:North Carolina
ATTACH;FMTTYPE=image/png:https://lwbctriad.org/wp-content/uploads/2024/08/IMG_9781.png
END:VEVENT
BEGIN:VEVENT
DTSTART;TZID=America/New_York:20240919T183000
DTEND;TZID=America/New_York:20240919T193000
DTSTAMP:20260423T164202
CREATED:20240912T192411Z
LAST-MODIFIED:20240912T192412Z
UID:2650-1726770600-1726774200@lwbctriad.org
SUMMARY:Woman's Bible Study
DESCRIPTION:Learning\, Loving\, and Living God’s Word \n\n\n\nStarts Thursday\, September 19th @ 6:30pm \n\n\n\nBible study will be held in the Fellowship Hall.
URL:https://lwbctriad.org/events-plugin/womans-bible-study/
LOCATION:Living Water Baptist Church\, 9516 W. Market Street\, Colfax\, North Carolina\, 27235\, United States
ATTACH;FMTTYPE=image/jpeg:https://lwbctriad.org/wp-content/uploads/2024/09/IMG_9878.jpg
END:VEVENT
BEGIN:VEVENT
DTSTART;TZID=America/New_York:20240908T170000
DTEND;TZID=America/New_York:20240908T190000
DTSTAMP:20260423T164202
CREATED:20240818T042922Z
LAST-MODIFIED:20240818T042923Z
UID:2640-1725814800-1725822000@lwbctriad.org
SUMMARY:Enemies Within The Church Movie Night
DESCRIPTION:Note:The movie has a 2hr. run time. \n\n\n\nThis is a special church-wide event\, therefore we will not be having Sunday Night Kids this evening.*
URL:https://lwbctriad.org/events-plugin/enemies-within-the-church-movie-night/
LOCATION:North Carolina
ATTACH;FMTTYPE=image/jpeg:https://lwbctriad.org/wp-content/uploads/2024/08/IMG_9780.jpg
END:VEVENT
BEGIN:VEVENT
DTSTART;TZID=America/New_York:20240901T093000
DTEND;TZID=America/New_York:20240901T110000
DTSTAMP:20260423T164202
CREATED:20240818T042610Z
LAST-MODIFIED:20240818T042611Z
UID:2638-1725183000-1725188400@lwbctriad.org
SUMMARY:Promotion Sunday
DESCRIPTION:Kids will be moving up to their new classrooms* \n\n\n\nReminder: Children who turn 4 before August 31st will now join us in the sanctuary for morning worship! Worship bags will be provided in the foyer.
URL:https://lwbctriad.org/events-plugin/promotion-sunday/
LOCATION:North Carolina
ATTACH;FMTTYPE=image/png:https://lwbctriad.org/wp-content/uploads/2024/08/IMG_9779.png
END:VEVENT
BEGIN:VEVENT
DTSTART;TZID=America/New_York:20240824T140000
DTEND;TZID=America/New_York:20240824T160000
DTSTAMP:20260423T164202
CREATED:20240818T041426Z
LAST-MODIFIED:20240818T041428Z
UID:2634-1724508000-1724515200@lwbctriad.org
SUMMARY:Back To School Bash
DESCRIPTION:Wear a modest bathing suit\, bring a towel\, and get ready to have a splashin’ good time as we kick-off a new school year together!*  \n\n\n\nDon’t forget to invite a friend!
URL:https://lwbctriad.org/events-plugin/back-to-school-bash/
LOCATION:Living Water Baptist Church\, 9516 W. Market Street\, Colfax\, North Carolina\, 27235\, United States
ATTACH;FMTTYPE=image/jpeg:https://lwbctriad.org/wp-content/uploads/2024/08/@PeXi2781814.jpg
END:VEVENT
BEGIN:VEVENT
DTSTART;TZID=America/New_York:20240803T080000
DTEND;TZID=America/New_York:20240803T160000
DTSTAMP:20260423T164202
CREATED:20240712T210108Z
LAST-MODIFIED:20240712T210115Z
UID:2616-1722672000-1722700800@lwbctriad.org
SUMMARY:Woman's Ministry- Concealed Carry Class
DESCRIPTION:Registration is now closed. \n\n\n\nDate: Saturday\, August 3rdTraining Time:  8am-4pm Location:  Living Water Baptist ChurchQualifying Time: 4:30pmLocation: David and Donna Smith’s Residence Lite breakfast and lunch will be provided.
URL:https://lwbctriad.org/events-plugin/womans-ministry-concealed-carry-class/
LOCATION:Living Water Baptist Church\, 9516 W. Market Street\, Colfax\, North Carolina\, 27235\, United States
ATTACH;FMTTYPE=image/jpeg:https://lwbctriad.org/wp-content/uploads/2024/07/IMG_9499.jpg
END:VEVENT
BEGIN:VEVENT
DTSTART;TZID=UTC:20240722T080000
DTEND;TZID=UTC:20240726T170000
DTSTAMP:20260423T164202
CREATED:20231201T093559Z
LAST-MODIFIED:20231201T093600Z
UID:2408-1721635200-1722013200@lwbctriad.org
SUMMARY:Kids Summer Camp 2024
DESCRIPTION:CentriKid Camp @ Ridgecrest \n\n\n\nDate: July 22nd-July 26th \n\n\n\nAges: Completed 2nd Grade through 6th Grade \n\n\n\n*$75 deposit is due by Feb.11th!* \n\n\n\n$359 per participant \n\n\n\n*Please let Ashley know if you are planning to attend camp asap so she can finalize numbers. If you have any questions and to sign-up email Ashley@ ashley.wike@lwbctriad.org.
URL:https://lwbctriad.org/events-plugin/kids-summer-camp-2024/
LOCATION:North Carolina
ATTACH;FMTTYPE=image/png:https://lwbctriad.org/wp-content/uploads/2023/12/Kids-Camp.png
END:VEVENT
BEGIN:VEVENT
DTSTART;TZID=America/New_York:20240714T170000
DTEND;TZID=America/New_York:20240714T180000
DTSTAMP:20260423T164202
CREATED:20240712T210955Z
LAST-MODIFIED:20240712T211003Z
UID:2627-1720976400-1720980000@lwbctriad.org
SUMMARY:Night Of Praise
DESCRIPTION:SAVE THE DATE!!! \n\n\n\nSunday\, July 14th at 5pm \n\n\n\n*See Pastor Chris if you would like to get involved!*
URL:https://lwbctriad.org/events-plugin/night-of-praise/
LOCATION:Living Water Baptist Church\, 9516 W. Market Street\, Colfax\, North Carolina\, 27235\, United States
ATTACH;FMTTYPE=image/jpeg:https://lwbctriad.org/wp-content/uploads/2024/07/IMG_9502.jpg
END:VEVENT
BEGIN:VEVENT
DTSTART;TZID=America/New_York:20240623T180000
DTEND;TZID=America/New_York:20240623T201500
DTSTAMP:20260423T164202
CREATED:20240222T181233Z
LAST-MODIFIED:20240227T201445Z
UID:2567-1719165600-1719173700@lwbctriad.org
SUMMARY:VBS 2024
DESCRIPTION:SAVE THE DATE! \n\n\n\nWhen: June 23-27 \n\n\n\nTime: 6:00pm-8:15pm \n\n\n\nAges: 4 yr. olds through 5th Grade \n\n\n\n\n\n\n\n\nRegister Here!
URL:https://lwbctriad.org/events-plugin/vbs-2024/
LOCATION:Living Water Baptist Church\, 9516 W. Market Street\, Colfax\, North Carolina\, 27235\, United States
ATTACH;FMTTYPE=image/jpeg:https://lwbctriad.org/wp-content/uploads/2024/02/jungle-journey-vbs2024.jpg
END:VEVENT
END:VCALENDAR