BEGIN:VCALENDAR
VERSION:2.0
PRODID:-//Living Water Baptist Church - ECPv6.15.20//NONSGML v1.0//EN
CALSCALE:GREGORIAN
METHOD:PUBLISH
X-WR-CALNAME:Living Water Baptist Church
X-ORIGINAL-URL:https://lwbctriad.org
X-WR-CALDESC:Events for Living Water Baptist Church
REFRESH-INTERVAL;VALUE=DURATION:PT1H
X-Robots-Tag:noindex
X-PUBLISHED-TTL:PT1H
BEGIN:VTIMEZONE
TZID:America/New_York
BEGIN:DAYLIGHT
TZOFFSETFROM:-0500
TZOFFSETTO:-0400
TZNAME:EDT
DTSTART:20230312T070000
END:DAYLIGHT
BEGIN:STANDARD
TZOFFSETFROM:-0400
TZOFFSETTO:-0500
TZNAME:EST
DTSTART:20231105T060000
END:STANDARD
BEGIN:DAYLIGHT
TZOFFSETFROM:-0500
TZOFFSETTO:-0400
TZNAME:EDT
DTSTART:20240310T070000
END:DAYLIGHT
BEGIN:STANDARD
TZOFFSETFROM:-0400
TZOFFSETTO:-0500
TZNAME:EST
DTSTART:20241103T060000
END:STANDARD
BEGIN:DAYLIGHT
TZOFFSETFROM:-0500
TZOFFSETTO:-0400
TZNAME:EDT
DTSTART:20250309T070000
END:DAYLIGHT
BEGIN:STANDARD
TZOFFSETFROM:-0400
TZOFFSETTO:-0500
TZNAME:EST
DTSTART:20251102T060000
END:STANDARD
BEGIN:DAYLIGHT
TZOFFSETFROM:-0500
TZOFFSETTO:-0400
TZNAME:EDT
DTSTART:20260308T070000
END:DAYLIGHT
BEGIN:STANDARD
TZOFFSETFROM:-0400
TZOFFSETTO:-0500
TZNAME:EST
DTSTART:20261101T060000
END:STANDARD
END:VTIMEZONE
BEGIN:VEVENT
DTSTART;TZID=America/New_York:20251004T150000
DTEND;TZID=America/New_York:20251004T170000
DTSTAMP:20260423T193923
CREATED:20250915T183753Z
LAST-MODIFIED:20250915T183754Z
UID:2875-1759590000-1759597200@lwbctriad.org
SUMMARY:Pumpkin Gospel Project
DESCRIPTION:Kids\, invite your friends and join us at 3pm on October 4th for our annual Pumpkin Gospel Project!  \n\n\n\nCome pick a pumpkin out of the “field” and get ready to carve your way through the Gospel. This is a hands on fun activity for the entire family! You will be able to take the lesson home to share with your neighbors and community. A sign-up to participate in this FREE family event will be in the foyer or by using the link below: \n\n\n\nhttps://lwbc.breezechms.com/form/1e60b4 \n\n\n\nDeadline to sign-up is September 28th so we know how many pumpkins to have in the “patch”!
URL:https://lwbctriad.org/events-plugin/pumpkin-gospel-project/
ATTACH;FMTTYPE=image/png:https://lwbctriad.org/wp-content/uploads/2025/09/Pumpkin-Gospel-Project.png
END:VEVENT
BEGIN:VEVENT
DTSTART;TZID=America/New_York:20250927T110000
DTEND;TZID=America/New_York:20250927T130000
DTSTAMP:20260423T193923
CREATED:20250821T185814Z
LAST-MODIFIED:20250821T185815Z
UID:2865-1758970800-1758978000@lwbctriad.org
SUMMARY:Womans Ministry Fallen For You Brunch
DESCRIPTION:The Women’s Ministry is hosting a “Fallin’ for You” brunch on Saturday\, September 27th from 11am-1pm here at LWBC.  \n\n\n\nThe deadline to register is Sunday\, August 31st.  \n\n\n\nIf you have any questions\, reach out to Tammy Nix @ 336-209-4910. 
URL:https://lwbctriad.org/events-plugin/womans-ministry-fallen-for-you-brunch/
ATTACH;FMTTYPE=image/png:https://lwbctriad.org/wp-content/uploads/2025/08/Womens-Ministry-Fall-Brunch.png
END:VEVENT
BEGIN:VEVENT
DTSTART;TZID=America/New_York:20250921T150000
DTEND;TZID=America/New_York:20250921T160000
DTSTAMP:20260423T193923
CREATED:20250915T182650Z
LAST-MODIFIED:20250915T182652Z
UID:2869-1758466800-1758470400@lwbctriad.org
SUMMARY:Children Ministry Meeting
DESCRIPTION:On Sunday\, September 21st at 3pm we will be holding an informative meeting for the Children’s Ministry. This meeting is for all parents/guardians\, volunteers\, and those who are interested in serving in any capacity in Children’s Ministry. We will be discussing and reviewing the Policies and Procedures for the 2025-2026 year and sharing some exciting things that will be taking place this year!  \n\n\n\n*All volunteers must go over the policies and procedures to serve.* \n\n\n\nContact Ashley Wike @ ashley.wike@lwbctriad.org with any questions.
URL:https://lwbctriad.org/events-plugin/children-ministry-meeting/
ATTACH;FMTTYPE=image/png:https://lwbctriad.org/wp-content/uploads/2025/09/Childrens-Ministry-Meeting.png
END:VEVENT
BEGIN:VEVENT
DTSTART;TZID=America/New_York:20250906T130000
DTEND;TZID=America/New_York:20250906T150000
DTSTAMP:20260423T193923
CREATED:20250821T174813Z
LAST-MODIFIED:20250821T174814Z
UID:2856-1757163600-1757170800@lwbctriad.org
SUMMARY:LWBC Kids Mini Golf
DESCRIPTION:LWBC Kids join us as we “get back into the swing of things and kick-off a new Sunday School year!”  \n\n\n\nWhen: Saturday\, September 6th @ 1pm \n\n\n\nWhere: Partee Shack \n\n\n\n3712 S Holden Rd\, Greensboro\, NC 27406 \n\n\n\nCost: LWBC Kids FREE! \n\n\n\nAdults: $15 per ticket \n\n\n\nRSVP by THIS Sunday\, August 24th to Ashley @ ashley.wike@lwbctriad.org
URL:https://lwbctriad.org/events-plugin/lwbc-kids-mini-golf/
LOCATION:Partee Shack\, 3712 S Holden Rd\, Greensboro\, North Carolina\, 27406\, United States
ATTACH;FMTTYPE=image/png:https://lwbctriad.org/wp-content/uploads/2025/08/Partee-Shack.png
END:VEVENT
BEGIN:VEVENT
DTSTART;TZID=America/New_York:20250831T000000
DTEND;TZID=America/New_York:20250831T000000
DTSTAMP:20260423T193923
CREATED:20250518T030013Z
LAST-MODIFIED:20250518T030127Z
UID:2830-1756598400-1756598400@lwbctriad.org
SUMMARY:Labor Day ( No PM Activities)
DESCRIPTION:Happy Labor Day! No PM Activities August 31st.
URL:https://lwbctriad.org/events-plugin/labor-day-no-pm-activities/
ATTACH;FMTTYPE=image/png:https://lwbctriad.org/wp-content/uploads/2025/05/Labor-Day.png
END:VEVENT
BEGIN:VEVENT
DTSTART;TZID=America/New_York:20250823T140000
DTEND;TZID=America/New_York:20250823T160000
DTSTAMP:20260423T193923
CREATED:20250518T025758Z
LAST-MODIFIED:20250821T174950Z
UID:2828-1755957600-1755964800@lwbctriad.org
SUMMARY:Back To School Bash
DESCRIPTION:THIS SATURDAY!!! \n\n\n\nLWBC Kids  \n\n\n\nDate: Saturday\, August 23rd \n\n\n\nTime: 2pm-4pm \n\n\n\nWhere: LWBC Back Lawn & Shelter \n\n\n\n*Wear a modest bathing suit\, bring a towel\, and get ready to have a splashin’ good time as we kick-off a new school year together!* \n\n\n\nDon’t forget to invite a friend!
URL:https://lwbctriad.org/events-plugin/back-to-school-bash-2/
ATTACH;FMTTYPE=image/png:https://lwbctriad.org/wp-content/uploads/2025/05/Back-to-School.png
END:VEVENT
BEGIN:VEVENT
DTSTART;TZID=America/New_York:20250721T080000
DTEND;TZID=America/New_York:20250725T170000
DTSTAMP:20260423T193923
CREATED:20250518T025522Z
LAST-MODIFIED:20250518T025523Z
UID:2826-1753084800-1753462800@lwbctriad.org
SUMMARY:Kids Camp
DESCRIPTION:Mark your calendars! \n\n\n\nCentriKid Camp @ Ridgecrest \n\n\n\nDate: July 21st-July25th \n\n\n\nAges: Completed 2nd Grade through 6th Grade \n\n\n\n$369 per participant
URL:https://lwbctriad.org/events-plugin/kids-camp/
ATTACH;FMTTYPE=image/png:https://lwbctriad.org/wp-content/uploads/2025/05/Centrikid-2025.png
END:VEVENT
BEGIN:VEVENT
DTSTART;TZID=America/New_York:20250706T170000
DTEND;TZID=America/New_York:20250706T190000
DTSTAMP:20260423T193923
CREATED:20250518T024915Z
LAST-MODIFIED:20250627T192449Z
UID:2824-1751821200-1751828400@lwbctriad.org
SUMMARY:Church Cookout
DESCRIPTION:Come out for our Church Cookout on July 6th from 5:00 to 7:00 PM! Enjoy great food\, fun activities\, and fellowship with our church family.
URL:https://lwbctriad.org/events-plugin/church-cookout/
LOCATION:Living Water Baptist Church\, 9516 W. Market Street\, Colfax\, North Carolina\, 27235\, United States
ATTACH;FMTTYPE=image/png:https://lwbctriad.org/wp-content/uploads/2025/05/IMG_3142.png
END:VEVENT
BEGIN:VEVENT
DTSTART;TZID=America/New_York:20250629T170000
DTEND;TZID=America/New_York:20250629T180000
DTSTAMP:20260423T193923
CREATED:20250518T024611Z
LAST-MODIFIED:20250518T024612Z
UID:2822-1751216400-1751220000@lwbctriad.org
SUMMARY:Fifth Sunday Sing
DESCRIPTION:Join us for a special Fifth Sunday Sing on June 29th at 5:00 PM! Come enjoy an uplifting evening of music\, fellowship\, and worship as we raise our voices together in praise.
URL:https://lwbctriad.org/events-plugin/fifth-sunday-sing/
LOCATION:Living Water Baptist Church\, 9516 W. Market Street\, Colfax\, North Carolina\, 27235\, United States
ATTACH;FMTTYPE=image/png:https://lwbctriad.org/wp-content/uploads/2025/05/5th-Sunday-Sing-scaled.png
END:VEVENT
BEGIN:VEVENT
DTSTART;TZID=America/New_York:20250615T000000
DTEND;TZID=America/New_York:20250615T000000
DTSTAMP:20260423T193923
CREATED:20250518T024147Z
LAST-MODIFIED:20250518T024148Z
UID:2813-1749945600-1749945600@lwbctriad.org
SUMMARY:Fathers Day ( No PM Activities)
DESCRIPTION:Happy Father’s Day to all our fathers at Living Water! We will have no PM activities June 15th!
URL:https://lwbctriad.org/events-plugin/fathers-day-no-pm-activities/
ATTACH;FMTTYPE=image/png:https://lwbctriad.org/wp-content/uploads/2025/05/Fathers-Day.png
END:VEVENT
BEGIN:VEVENT
DTSTART;TZID=America/New_York:20250609T180000
DTEND;TZID=America/New_York:20250609T204500
DTSTAMP:20260423T193923
CREATED:20250407T212625Z
LAST-MODIFIED:20250407T212627Z
UID:2796-1749492000-1749501900@lwbctriad.org
SUMMARY:VBS 2025 Wonder Junction
DESCRIPTION:Theme: Wonder Junction- Marvel at Jesus\, Live for His Glory \n\n\n\nWhen: June 9-13 \n\n\n\nTime: 6:00pm-8:45pm \n\n\n\nAges: Toddlers through Adults \n\n\n\n*Nursery is available for volunteers or those attending the adult class* \n\n\n\nRegister to attend VBS today! \n\n\n\nLink to register:https://lwbcvbs2025.myanswers.com/wonder-junction \n\n\n\n*A QR Code sign-up is located in the foyer as well!*
URL:https://lwbctriad.org/events-plugin/vbs-2025-wonder-junction/
LOCATION:Living Water Baptist Church\, 9516 W. Market Street\, Colfax\, North Carolina\, 27235\, United States
ATTACH;FMTTYPE=image/jpeg:https://lwbctriad.org/wp-content/uploads/2025/04/IMG_2394.jpg
END:VEVENT
BEGIN:VEVENT
DTSTART;TZID=America/New_York:20250531T140000
DTEND;TZID=America/New_York:20250531T160000
DTSTAMP:20260423T193923
CREATED:20250211T182754Z
LAST-MODIFIED:20250211T182755Z
UID:2788-1748700000-1748707200@lwbctriad.org
SUMMARY:Kids Camp Fundraiser Car Wash
DESCRIPTION:Join us for a fundraiser car wash on May 31st from 2:00 to 4:00 PM\, benefiting our church kids camp! Bring your car by for a wash\, and help support the kids as they prepare for an unforgettable camp experience.
URL:https://lwbctriad.org/events-plugin/kids-camp-fundraiser-car-wash/
LOCATION:Living Water Baptist Church\, 9516 W. Market Street\, Colfax\, North Carolina\, 27235\, United States
ATTACH;FMTTYPE=image/png:https://lwbctriad.org/wp-content/uploads/2025/02/Car-Wash.png
END:VEVENT
BEGIN:VEVENT
DTSTART;TZID=America/New_York:20250525T080000
DTEND;TZID=America/New_York:20250525T170000
DTSTAMP:20260423T193923
CREATED:20250211T182248Z
LAST-MODIFIED:20250211T182250Z
UID:2785-1748160000-1748192400@lwbctriad.org
SUMMARY:Memorial Day Weekend
DESCRIPTION:No PM Activities
URL:https://lwbctriad.org/events-plugin/memorial-day-weekend-2/
LOCATION:Living Water Baptist Church\, 9516 W. Market Street\, Colfax\, North Carolina\, 27235\, United States
ATTACH;FMTTYPE=image/png:https://lwbctriad.org/wp-content/uploads/2025/02/Memorial-Day-No-PM.png
END:VEVENT
BEGIN:VEVENT
DTSTART;TZID=America/New_York:20250511T103000
DTEND;TZID=America/New_York:20250511T113000
DTSTAMP:20260423T193923
CREATED:20250211T181858Z
LAST-MODIFIED:20250211T181859Z
UID:2781-1746959400-1746963000@lwbctriad.org
SUMMARY:Mothers Day
DESCRIPTION:Celebrate Mother’s Day with us on May 11th during our Sunday service from 10:30 to 11:30 AM! It will be a special time to appreciate all the incredible mothers in our church family. No PM Activities.
URL:https://lwbctriad.org/events-plugin/mothers-day/
LOCATION:Living Water Baptist Church\, 9516 W. Market Street\, Colfax\, North Carolina\, 27235\, United States
ATTACH;FMTTYPE=image/png:https://lwbctriad.org/wp-content/uploads/2025/02/Mothers-Day-NO-PM.png
END:VEVENT
BEGIN:VEVENT
DTSTART;TZID=America/New_York:20250503T180000
DTEND;TZID=America/New_York:20250503T200000
DTSTAMP:20260423T193923
CREATED:20250211T181314Z
LAST-MODIFIED:20250211T181315Z
UID:2776-1746295200-1746302400@lwbctriad.org
SUMMARY:Grasshoppers Game
DESCRIPTION:Join us for a fun evening at the Grasshoppers game on May 3rd at 6:00 PM! It’s a great opportunity for fellowship and enjoying some exciting baseball together as a church family.
URL:https://lwbctriad.org/events-plugin/grasshoppers-game/
LOCATION:408 Bellemeade Street\, Greensboro\, NC 27401.\, 408 Bellemeade St
ATTACH;FMTTYPE=image/png:https://lwbctriad.org/wp-content/uploads/2025/02/GSO-Grasshoppers.png
END:VEVENT
BEGIN:VEVENT
DTSTART;TZID=America/New_York:20250420T103000
DTEND;TZID=America/New_York:20250420T113000
DTSTAMP:20260423T193923
CREATED:20250211T180659Z
LAST-MODIFIED:20250211T181958Z
UID:2773-1745145000-1745148600@lwbctriad.org
SUMMARY:Easter Sunday
DESCRIPTION:Celebrate the joy of the Resurrection with us at our Easter service on April 20th at 10:30 AM! It’s a special time to come together in worship\, giving thanks for the hope and new life that Easter brings. We’d love for you to join us as we rejoice in the victory of Jesus’ resurrection! No PM Activities.
URL:https://lwbctriad.org/events-plugin/easter-sunday/
LOCATION:Living Water Baptist Church\, 9516 W. Market Street\, Colfax\, North Carolina\, 27235\, United States
ATTACH;FMTTYPE=image/png:https://lwbctriad.org/wp-content/uploads/2025/02/Easter-Sunday.png
END:VEVENT
BEGIN:VEVENT
DTSTART;TZID=America/New_York:20250418T183000
DTEND;TZID=America/New_York:20250418T193000
DTSTAMP:20260423T193923
CREATED:20250211T180131Z
LAST-MODIFIED:20250211T180132Z
UID:2770-1745001000-1745004600@lwbctriad.org
SUMMARY:Good Friday Service
DESCRIPTION:Join us for a meaningful Good Friday service on April 18th at 6:30 PM as we reflect on the sacrifice of Jesus and His incredible love for us.
URL:https://lwbctriad.org/events-plugin/good-friday-service-2/
LOCATION:Living Water Baptist Church\, 9516 W. Market Street\, Colfax\, North Carolina\, 27235\, United States
ATTACH;FMTTYPE=image/png:https://lwbctriad.org/wp-content/uploads/2025/02/GoodFriday@4x-01.png
END:VEVENT
BEGIN:VEVENT
DTSTART;TZID=America/New_York:20250330T170000
DTEND;TZID=America/New_York:20250330T180000
DTSTAMP:20260423T193923
CREATED:20250211T175000Z
LAST-MODIFIED:20250211T175001Z
UID:2763-1743354000-1743357600@lwbctriad.org
SUMMARY:Night Of Praise
DESCRIPTION:Join us for a powerful Night of Worship on March 30th at 5:00 PM!
URL:https://lwbctriad.org/events-plugin/night-of-praise-2/
LOCATION:Living Water Baptist Church\, 9516 W. Market Street\, Colfax\, North Carolina\, 27235\, United States
ATTACH;FMTTYPE=image/png:https://lwbctriad.org/wp-content/uploads/2025/02/Night-of-Praise.png
END:VEVENT
BEGIN:VEVENT
DTSTART;TZID=America/New_York:20250322T090000
DTEND;TZID=America/New_York:20250322T110000
DTSTAMP:20260423T193923
CREATED:20250211T174113Z
LAST-MODIFIED:20250211T174114Z
UID:2760-1742634000-1742641200@lwbctriad.org
SUMMARY:VBS Training
DESCRIPTION:Join us for VBS training on March 22nd at 9:00 AM! We will cover everything you need to know to be fully prepared for an amazing Vacation Bible School experience this year. We look forward to seeing you there and getting ready for an unforgettable VBS!
URL:https://lwbctriad.org/events-plugin/vbs-training/
LOCATION:Living Water Baptist Church\, 9516 W. Market Street\, Colfax\, North Carolina\, 27235\, United States
ATTACH;FMTTYPE=image/png:https://lwbctriad.org/wp-content/uploads/2025/02/VBS-training.png
END:VEVENT
BEGIN:VEVENT
DTSTART;TZID=America/New_York:20250309T000000
DTEND;TZID=America/New_York:20250309T010000
DTSTAMP:20260423T193923
CREATED:20250211T175440Z
LAST-MODIFIED:20250211T175441Z
UID:2766-1741478400-1741482000@lwbctriad.org
SUMMARY:Daylight Savings (Spring Forward)
DESCRIPTION:Set Your Clocks forward on March 9th
URL:https://lwbctriad.org/events-plugin/daylight-savings-spring-forward/
ATTACH;FMTTYPE=image/png:https://lwbctriad.org/wp-content/uploads/2025/02/Spring-Forward.png
END:VEVENT
BEGIN:VEVENT
DTSTART;TZID=America/New_York:20250209T120000
DTEND;TZID=America/New_York:20250209T140000
DTSTAMP:20260423T193923
CREATED:20250131T174108Z
LAST-MODIFIED:20250131T174109Z
UID:2751-1739102400-1739109600@lwbctriad.org
SUMMARY:Widow's Tea
DESCRIPTION:hosted by the LWBC Kids \n\n\n\nSunday\, February 9th \n\n\n\ndirectly after the am worship service in the fellowship hall \n\n\n\n*The children will be serving a lite brunch and tea at the event*
URL:https://lwbctriad.org/events-plugin/widows-tea/
ATTACH;FMTTYPE=image/png:https://lwbctriad.org/wp-content/uploads/2025/01/IMG_1993.png
END:VEVENT
BEGIN:VEVENT
DTSTART;TZID=America/New_York:20250208T080000
DTEND;TZID=America/New_York:20250208T093000
DTSTAMP:20260423T193923
CREATED:20250131T173514Z
LAST-MODIFIED:20250131T173515Z
UID:2748-1739001600-1739007000@lwbctriad.org
SUMMARY:Men's Breakfast
DESCRIPTION:Saturday\, February 8th \n\n\n\n8:00am-9:30am \n\n\n\nTopic: Financial Wisdom\, passing experience on to the next generation \n\n\n\n *Sign-up is in the Foyer!*
URL:https://lwbctriad.org/events-plugin/mens-breakfast/
ATTACH;FMTTYPE=image/png:https://lwbctriad.org/wp-content/uploads/2025/01/IMG_1991.png
END:VEVENT
BEGIN:VEVENT
DTSTART;TZID=America/New_York:20250207T173000
DTEND;TZID=America/New_York:20250207T200000
DTSTAMP:20260423T193923
CREATED:20250131T173041Z
LAST-MODIFIED:20250131T173042Z
UID:2745-1738949400-1738958400@lwbctriad.org
SUMMARY:Parents Night Out
DESCRIPTION:Friday\, February 7th from 5:30-8:00pm \n\n\n\nAges: Toddlers-5th Grade \n\n\n\nEnjoy a night out together while we take care of the kids! \n\n\n\nYour kids will enjoy music\, games\, activities\, and pizza while learning just how much Jesus truly loves them! \n\n\n\n*Sign-up in the Foyer by THIS SUNDAY\, February 2nd! \n\n\n\nContact Ashley @ ashley.wike@lwbctriad.org if you have any questions.
URL:https://lwbctriad.org/events-plugin/parents-night-out/
ATTACH;FMTTYPE=image/png:https://lwbctriad.org/wp-content/uploads/2025/01/IMG_1990-2.png
END:VEVENT
BEGIN:VEVENT
DTSTART;TZID=America/New_York:20250118T140000
DTEND;TZID=America/New_York:20250118T160000
DTSTAMP:20260423T193923
CREATED:20241231T201828Z
LAST-MODIFIED:20241231T201828Z
UID:2734-1737208800-1737216000@lwbctriad.org
SUMMARY:Lyndsey Oakley's Baby Shower
DESCRIPTION:Saturday\, January 18 | 2-4 pm \n\n\n\n@ LWBC (Fellowship Hall) \n\n\n\nLyndsey is registered at Amazon
URL:https://lwbctriad.org/events-plugin/lyndsey-oakleys-baby-shower/
LOCATION:Living Water Baptist Church\, 9516 W. Market Street\, Colfax\, North Carolina\, 27235\, United States
ATTACH;FMTTYPE=image/png:https://lwbctriad.org/wp-content/uploads/2024/12/Baby-Shower.png
END:VEVENT
BEGIN:VEVENT
DTSTART;TZID=America/New_York:20250108T184500
DTEND;TZID=America/New_York:20250108T200000
DTSTAMP:20260423T193923
CREATED:20241231T202208Z
LAST-MODIFIED:20241231T202209Z
UID:2737-1736361900-1736366400@lwbctriad.org
SUMMARY:Choir Practice Returns
DESCRIPTION:A GREAT time to join!
URL:https://lwbctriad.org/events-plugin/choir-practice-returns/
LOCATION:Living Water Baptist Church\, 9516 W. Market Street\, Colfax\, North Carolina\, 27235\, United States
ATTACH;FMTTYPE=image/png:https://lwbctriad.org/wp-content/uploads/2024/12/Choir-Practice.png
END:VEVENT
BEGIN:VEVENT
DTSTART;TZID=America/New_York:20241224T170000
DTEND;TZID=America/New_York:20241224T190000
DTSTAMP:20260423T193923
CREATED:20241119T002548Z
LAST-MODIFIED:20241119T002549Z
UID:2704-1735059600-1735066800@lwbctriad.org
SUMMARY:Christmas Eve Service
DESCRIPTION:Christmas Eve Service will be at 5pm. \n\n\n\nWe look forward to celebrating the birth of Jesus with you!
URL:https://lwbctriad.org/events-plugin/christmas-eve-service-2/
LOCATION:Living Water Baptist Church\, 9516 W. Market Street\, Colfax\, North Carolina\, 27235\, United States
ATTACH;FMTTYPE=image/jpeg:https://lwbctriad.org/wp-content/uploads/2024/11/IMG_1060-1-scaled.jpg
END:VEVENT
BEGIN:VEVENT
DTSTART;TZID=America/New_York:20241224T170000
DTEND;TZID=America/New_York:20241224T190000
DTSTAMP:20260423T193923
CREATED:20241108T170814Z
LAST-MODIFIED:20241108T170815Z
UID:2686-1735059600-1735066800@lwbctriad.org
SUMMARY:LWBC Kids involvement in the Christmas Eve Service!
DESCRIPTION:LWBC Kids sign-up today to be a part of the Christmas Eve service! \n\n\n\nYou don’t want to miss being a part of this special evening service! \n\n\n\nSign-up sheet is located at the kid check-in desk in the Sunday school building or you can contact Ashley Wike at (704)-880-4723 or by emailing her at ashley.wike@lwbctriad.org \n\n\n\nDeadline to sign-up is November 17th!
URL:https://lwbctriad.org/events-plugin/lwbc-kids-involvement-in-the-christmas-eve-service/
ATTACH;FMTTYPE=image/png:https://lwbctriad.org/wp-content/uploads/2024/11/IMG_0912.png
END:VEVENT
BEGIN:VEVENT
DTSTART;TZID=America/New_York:20241219T100000
DTEND;TZID=America/New_York:20241219T163000
DTSTAMP:20260423T193923
CREATED:20241119T001049Z
LAST-MODIFIED:20241119T001050Z
UID:2697-1734602400-1734625800@lwbctriad.org
SUMMARY:Christmas Project With FBC Swannanoa
DESCRIPTION:We are collecting toys and the following clothing items for preteens (10-12yr. olds) \n\n\n\n– new toys\, pj sets\, coats\, underwear\, socks\, gloves\, scarves. \n\n\n\nAll donations are due at the church by December 1st! \n\n\n\nWe need volunteers to help us deliver the donations the first week of December.  \n\n\n\nThere is also an opportunity to serve at the event on December 19th (10am-4:30pm). Please let Ashley know THIS week if you would like to go up to serve so she can let Swannanoa know. 
URL:https://lwbctriad.org/events-plugin/christmas-project-with-fbc-swannanoa/
ATTACH;FMTTYPE=image/png:https://lwbctriad.org/wp-content/uploads/2024/11/IMG_1058.png
END:VEVENT
BEGIN:VEVENT
DTSTART;TZID=America/New_York:20241213T183000
DTEND;TZID=America/New_York:20241215T200000
DTSTAMP:20260423T193923
CREATED:20241119T001851Z
LAST-MODIFIED:20241119T001852Z
UID:2700-1734114600-1734292800@lwbctriad.org
SUMMARY:Christmas Choir Performance
DESCRIPTION:The Majesty of Christmas Performances will be: \n\n\n\nDecember 13th 6:30pm at FABC \n\n\n\nDecember 14th 2:00pm & 6:30pm at FABC \n\n\n\nDecember 15th 5:00pm at LWBC! \n\n\n\nFABC performances require free tickets for admission. Visit https://friendlyavenue.com/ to get a ticket.
URL:https://lwbctriad.org/events-plugin/christmas-choir-performance/
ATTACH;FMTTYPE=image/jpeg:https://lwbctriad.org/wp-content/uploads/2024/11/IMG_1059-1-scaled.jpg
END:VEVENT
BEGIN:VEVENT
DTSTART;TZID=America/New_York:20241213T180000
DTEND;TZID=America/New_York:20241213T210000
DTSTAMP:20260423T193923
CREATED:20241108T170426Z
LAST-MODIFIED:20241108T170427Z
UID:2684-1734112800-1734123600@lwbctriad.org
SUMMARY:Seniors On The Go
DESCRIPTION:Seniors On The Go Christmas Fellowship and Dinner \n\n\n\nFriday December 13\,2024 \n\n\n\n6:00PM-9:00PM \n\n\n\nCover Dish Dinner Provided \n\n\n\nGift Exchange: Please bring a wrapped gift ($20.00 Max) \n\n\n\nSign-Up Sheet in church foyer : Please sign up by December 1st
URL:https://lwbctriad.org/events-plugin/seniors-on-the-go-2/
ATTACH;FMTTYPE=image/png:https://lwbctriad.org/wp-content/uploads/2024/10/IMG_0612.png
END:VEVENT
END:VCALENDAR