BEGIN:VCALENDAR
VERSION:2.0
PRODID:-//Living Water Baptist Church - ECPv6.15.20//NONSGML v1.0//EN
CALSCALE:GREGORIAN
METHOD:PUBLISH
X-ORIGINAL-URL:https://lwbctriad.org
X-WR-CALDESC:Events for Living Water Baptist Church
REFRESH-INTERVAL;VALUE=DURATION:PT1H
X-Robots-Tag:noindex
X-PUBLISHED-TTL:PT1H
BEGIN:VTIMEZONE
TZID:America/New_York
BEGIN:DAYLIGHT
TZOFFSETFROM:-0500
TZOFFSETTO:-0400
TZNAME:EDT
DTSTART:20250309T070000
END:DAYLIGHT
BEGIN:STANDARD
TZOFFSETFROM:-0400
TZOFFSETTO:-0500
TZNAME:EST
DTSTART:20251102T060000
END:STANDARD
BEGIN:DAYLIGHT
TZOFFSETFROM:-0500
TZOFFSETTO:-0400
TZNAME:EDT
DTSTART:20260308T070000
END:DAYLIGHT
BEGIN:STANDARD
TZOFFSETFROM:-0400
TZOFFSETTO:-0500
TZNAME:EST
DTSTART:20261101T060000
END:STANDARD
BEGIN:DAYLIGHT
TZOFFSETFROM:-0500
TZOFFSETTO:-0400
TZNAME:EDT
DTSTART:20270314T070000
END:DAYLIGHT
BEGIN:STANDARD
TZOFFSETFROM:-0400
TZOFFSETTO:-0500
TZNAME:EST
DTSTART:20271107T060000
END:STANDARD
END:VTIMEZONE
BEGIN:VEVENT
DTSTART;TZID=America/New_York:20260610T090000
DTEND;TZID=America/New_York:20260614T120000
DTSTAMP:20260423T180045
CREATED:20260320T000346Z
LAST-MODIFIED:20260422T003232Z
UID:2953-1781082000-1781438400@lwbctriad.org
SUMMARY:VBS 2026!
DESCRIPTION:SAVE THE DATE! \n\n\n\nWednesday\, June 10th- Sunday\, June 14th \n\n\n\n9am-12n \n\n\n\nWE NEED EWE to shepherd our kids through Emerald Crossing!  \n\n\n\nTHIS Sunday\, we will be giving out VBS Volunteer Forms in our bulletins. Please take a look at all the ways you can get involved with VBS this year! Fill out the form\, place it in the VBS box in the Foyer\, and we will reach out to you to get you assigned to a role!  \n\n\n\n\nRegister Today!
URL:https://lwbctriad.org/events-plugin/vbs-2026/
ATTACH;FMTTYPE=image/png:https://lwbctriad.org/wp-content/uploads/2026/03/VBS-2026-SAVE-THE-DATE.png
END:VEVENT
BEGIN:VEVENT
DTSTART;TZID=America/New_York:20260727T080000
DTEND;TZID=America/New_York:20260731T170000
DTSTAMP:20260423T180045
CREATED:20251111T194351Z
LAST-MODIFIED:20251111T194353Z
UID:2927-1785139200-1785517200@lwbctriad.org
SUMMARY:Kids Summer Camp 2026!
DESCRIPTION:Join us this summer for camp at CentriKid-Ridgecrest! This year’s theme is The Storyteller! At camp we will open the pages of God’s Word and discover how He is the author of all things! \n\n\n\nDAY 1: The Author of All Things \n\n\n\nDAY 2: The Author of Salvation \n\n\n\nDAY 3: The Author of Truth \n\n\n\nDAY 4: The Author of Joy \n\n\n\nDAY 5: The Author of The Future \n\n\n\nWhen: July 27-31 \n\n\n\nLocation: Ridgecrest \n\n\n\nAges: Completed 2nd – 6th graders  \n\n\n\nCost: $380 per participant \n\n\n\nContact Ashley Wike @ ashley.wike@lwbctriad.org  to sign-up! Registration Deadline is Jan 22nd.
URL:https://lwbctriad.org/events-plugin/kids-summer-camp-2026/
ATTACH;FMTTYPE=image/png:https://lwbctriad.org/wp-content/uploads/2025/11/unnamed.png
END:VEVENT
END:VCALENDAR