BEGIN:VCALENDAR
VERSION:2.0
PRODID:-//Living Water Baptist Church - ECPv6.15.20//NONSGML v1.0//EN
CALSCALE:GREGORIAN
METHOD:PUBLISH
X-WR-CALNAME:Living Water Baptist Church
X-ORIGINAL-URL:https://lwbctriad.org
X-WR-CALDESC:Events for Living Water Baptist Church
REFRESH-INTERVAL;VALUE=DURATION:PT1H
X-Robots-Tag:noindex
X-PUBLISHED-TTL:PT1H
BEGIN:VTIMEZONE
TZID:America/New_York
BEGIN:DAYLIGHT
TZOFFSETFROM:-0500
TZOFFSETTO:-0400
TZNAME:EDT
DTSTART:20240310T070000
END:DAYLIGHT
BEGIN:STANDARD
TZOFFSETFROM:-0400
TZOFFSETTO:-0500
TZNAME:EST
DTSTART:20241103T060000
END:STANDARD
BEGIN:DAYLIGHT
TZOFFSETFROM:-0500
TZOFFSETTO:-0400
TZNAME:EDT
DTSTART:20250309T070000
END:DAYLIGHT
BEGIN:STANDARD
TZOFFSETFROM:-0400
TZOFFSETTO:-0500
TZNAME:EST
DTSTART:20251102T060000
END:STANDARD
BEGIN:DAYLIGHT
TZOFFSETFROM:-0500
TZOFFSETTO:-0400
TZNAME:EDT
DTSTART:20260308T070000
END:DAYLIGHT
BEGIN:STANDARD
TZOFFSETFROM:-0400
TZOFFSETTO:-0500
TZNAME:EST
DTSTART:20261101T060000
END:STANDARD
BEGIN:DAYLIGHT
TZOFFSETFROM:-0500
TZOFFSETTO:-0400
TZNAME:EDT
DTSTART:20270314T070000
END:DAYLIGHT
BEGIN:STANDARD
TZOFFSETFROM:-0400
TZOFFSETTO:-0500
TZNAME:EST
DTSTART:20271107T060000
END:STANDARD
END:VTIMEZONE
BEGIN:VEVENT
DTSTART;TZID=America/New_York:20260405T091500
DTEND;TZID=America/New_York:20260405T113000
DTSTAMP:20260423T192306
CREATED:20260320T001423Z
LAST-MODIFIED:20260320T001424Z
UID:2962-1775380500-1775388600@lwbctriad.org
SUMMARY:Resurrection Sunday!
DESCRIPTION:Sunday\, April 5th \n\n\n\nSunday School at 9:15am \n\n\n\nMorning Worship at 10:30am \n\n\n\n*NO Worship Care – Worship together as a family* \n\n\n\nNo PM Services/Activities
URL:https://lwbctriad.org/events-plugin/resurrection-sunday/
ATTACH;FMTTYPE=image/png:https://lwbctriad.org/wp-content/uploads/2026/03/Resurrection-Sunday-2026-scaled.png
END:VEVENT
BEGIN:VEVENT
DTSTART;TZID=America/New_York:20260403T183000
DTEND;TZID=America/New_York:20260403T193000
DTSTAMP:20260423T192306
CREATED:20260320T001054Z
LAST-MODIFIED:20260320T001055Z
UID:2959-1775241000-1775244600@lwbctriad.org
SUMMARY:Good Friday Service
DESCRIPTION:Join us on Friday\, April 3rd at 6:30pm for our Good Friday service.
URL:https://lwbctriad.org/events-plugin/good-friday-service-3/
ATTACH;FMTTYPE=image/png:https://lwbctriad.org/wp-content/uploads/2026/03/Good-Friday-scaled.png
END:VEVENT
BEGIN:VEVENT
DTSTART;TZID=America/New_York:20260328T093000
DTEND;TZID=America/New_York:20260328T113000
DTSTAMP:20260423T192306
CREATED:20260320T000706Z
LAST-MODIFIED:20260320T000707Z
UID:2956-1774690200-1774697400@lwbctriad.org
SUMMARY:Easter Family Event
DESCRIPTION:Saturday\, March 28th \n\n\n\n9:30am-11:30am \n\n\n\nAll ages welcome!  \n\n\n\nInvite a friend! \n\n\n\nJoin us for a special Holy Week Family Event as we prepare our hearts for Easter together.  \n\n\n\nWe will create a Holy Week Craft to guide us through the story of Jesus’ final days from celebration to sacrifice to resurrection joy. These simple symbols will help your family journey prayerfully through Holy Week and prepare your hearts for Easter. \n\n\n\nThis is a floating event for the entire family that includes making a craft\, devotional booklet\, and a special Easter snack for the entire family. 
URL:https://lwbctriad.org/events-plugin/easter-family-event/
ATTACH;FMTTYPE=image/jpeg:https://lwbctriad.org/wp-content/uploads/2026/03/IMG_6202.jpg
END:VEVENT
BEGIN:VEVENT
DTSTART;TZID=America/New_York:20260314T093000
DTEND;TZID=America/New_York:20260314T110000
DTSTAMP:20260423T192306
CREATED:20260309T215204Z
LAST-MODIFIED:20260309T215205Z
UID:2949-1773480600-1773486000@lwbctriad.org
SUMMARY:Toddler Play & Pray
DESCRIPTION:God’s love surrounds children and families from the very beginning\, and that love is shown through care\, kindness\, and community. Join us for Toddler Play & Pray where children will explore God’s love in a fun and nurturing environment while caregivers gather for meaningful connection and encouragement through God’s Word!  \n\n\n\nFor all infants – Pre-k children & their caregivers! Invite your friends to join! \n\n\n\nCoffee and snacks will be provided \n\n\n\nMarch 14th 9:30am-11:00am in the SS preschool Classrooms \n\n\n\n*Sign-up in the Foyer by March 8th!*
URL:https://lwbctriad.org/events-plugin/toddler-play-pray/
ATTACH;FMTTYPE=image/png:https://lwbctriad.org/wp-content/uploads/2026/03/IMG_6192.png
END:VEVENT
BEGIN:VEVENT
DTSTART;TZID=America/New_York:20260208T113000
DTEND;TZID=America/New_York:20260208T123000
DTSTAMP:20260423T192306
CREATED:20260108T214441Z
LAST-MODIFIED:20260108T214441Z
UID:2945-1770550200-1770553800@lwbctriad.org
SUMMARY:Widows Tea Party
DESCRIPTION:hosted by SNK Kids \n\n\n\nSunday\, February 8th \n\n\n\ndirectly after the AM worship service in the Fellowship Hall \n\n\n\nThe children will be serving a lite brunch and tea at the event. \n\n\n\n*Sign-up by February 1st in the Foyer!*
URL:https://lwbctriad.org/events-plugin/widows-tea-party/
ATTACH;FMTTYPE=image/jpeg:https://lwbctriad.org/wp-content/uploads/2026/01/Widows-Tea.jpeg
END:VEVENT
BEGIN:VEVENT
DTSTART;TZID=America/New_York:20260206T053000
DTEND;TZID=America/New_York:20260206T200000
DTSTAMP:20260423T192306
CREATED:20260108T213907Z
LAST-MODIFIED:20260108T214233Z
UID:2941-1770355800-1770408000@lwbctriad.org
SUMMARY:Parents Night Out!
DESCRIPTION:Friday\, February 6th from 5:30pm-8:00pm \n\n\n\nAges: K-5th Grade \n\n\n\nEnjoy a night out together while we take care of the kids!  \n\n\n\nYour kids will enjoy music\, games\, activities\, and pizza while learning just how much Jesus truly loves them!  \n\n\n\nSign-up in the Foyer by February 1st! 
URL:https://lwbctriad.org/events-plugin/parents-night-out-3/
ATTACH;FMTTYPE=image/jpeg:https://lwbctriad.org/wp-content/uploads/2026/01/Parents-Night-Out.jpeg
END:VEVENT
BEGIN:VEVENT
DTSTART;TZID=America/New_York:20260111T153000
DTEND;TZID=America/New_York:20260111T163000
DTSTAMP:20260423T192306
CREATED:20251111T194906Z
LAST-MODIFIED:20251111T194909Z
UID:2930-1768145400-1768149000@lwbctriad.org
SUMMARY:Constitution Alive Class
DESCRIPTION:The class will be held on Sunday afternoons from 3:00-4:30pm at LWBC beginning January 11th and running through February 22nd. \n\n\n\nThe format will be a combination of video & discussion. The class is free and comes with a free digital workbook but you will have the option to order a spiral-bound workbook for $20.00. You can sign up in the foyer on paper or online here: https://www.patriotacademy.com/coach/register/10674  \n\n\n\nCome join us – you’ll walk away understanding more about how to view current events and how to hold our leaders accountable to the oath they took. You might even be inspired to run for office!
URL:https://lwbctriad.org/events-plugin/constitution-alive-class/
ATTACH;FMTTYPE=image/jpeg:https://lwbctriad.org/wp-content/uploads/2025/11/unnamed.jpg
END:VEVENT
BEGIN:VEVENT
DTSTART;TZID=America/New_York:20260105T180000
DTEND;TZID=America/New_York:20260105T190000
DTSTAMP:20260423T192306
CREATED:20251013T200251Z
LAST-MODIFIED:20251013T200252Z
UID:2907-1767636000-1767639600@lwbctriad.org
SUMMARY:Death\, Dying\, and Coping with Grief
DESCRIPTION:This 4 week seminar will be held on Mondays at 6pm in the Sanctuary starting January 5th. \n\n\n\nA Sign-up sheet is located in the foyer.
URL:https://lwbctriad.org/events-plugin/death-dying-and-coping-with-grief/
ATTACH;FMTTYPE=image/png:https://lwbctriad.org/wp-content/uploads/2025/10/Death-Dying-Coping.png
END:VEVENT
BEGIN:VEVENT
DTSTART;TZID=America/New_York:20251207T170000
DTEND;TZID=America/New_York:20251207T190000
DTSTAMP:20260423T192306
CREATED:20250915T184941Z
LAST-MODIFIED:20251113T025636Z
UID:2884-1765126800-1765134000@lwbctriad.org
SUMMARY:Kids Movie Night
DESCRIPTION:Doors open @ 4:30!  \n\n\n\nKids Christmas Movie Night featuring “The Star” Movie \n\n\n\nMARK YOUR CALENDAR AND SAVE THE DATE! \n\n\n\nSunday\, December 7th from 5pm-7pm \n\n\n\n*Doors will open at 4:30pm* \n\n\n\nKids\, invite a friend and join us for a night to celebrate the true meaning of Christmas! The night will be full of songs\, games\, popcorn\, and of course the movie! It will be an \n\n\n\nunforgettable night to kick-off the Christmas season! \n\n\n\nIf you would like to be a part of the “Star” team and serve at this event\, please reach out to Ashley @ \n\n\n\nashley.wike@lwbctriad.org.to \n\n\n\nget involved! There is something for everyone!
URL:https://lwbctriad.org/events-plugin/kids-movie-night/
ATTACH;FMTTYPE=image/png:https://lwbctriad.org/wp-content/uploads/2025/09/Kids-Movie-Night.png
END:VEVENT
BEGIN:VEVENT
DTSTART;TZID=America/New_York:20251205T180000
DTEND;TZID=America/New_York:20251205T210000
DTSTAMP:20260423T192306
CREATED:20251111T192225Z
LAST-MODIFIED:20251111T192226Z
UID:2924-1764957600-1764968400@lwbctriad.org
SUMMARY:Seniors On The Go Christmas Party
DESCRIPTION:Senior Christmas Dinner at LWBC \n\n\n\nDecember 5th \n\n\n\n6:00pm-9:00pm \n\n\n\nMeal provided (Sign-up for desserts only) \n\n\n\nRSVP in the box located in the church foyer \n\n\n\n*Bring a secret santa gift!* \n\n\n\nPlease contact Jean White or Lynn Collier with any questions.
URL:https://lwbctriad.org/events-plugin/seniors-on-the-go-christmas-party/
ATTACH;FMTTYPE=image/jpeg:https://lwbctriad.org/wp-content/uploads/2025/11/Seniors-on-the-Go-Christmas-Party.jpeg
END:VEVENT
BEGIN:VEVENT
DTSTART;TZID=America/New_York:20251123T170000
DTEND;TZID=America/New_York:20251123T190000
DTSTAMP:20260423T192306
CREATED:20251111T191650Z
LAST-MODIFIED:20251111T191651Z
UID:2918-1763917200-1763924400@lwbctriad.org
SUMMARY:Church-wide Thanksgiving Dinner
DESCRIPTION:When: Sunday\, November 23rd \n\n\n\nTime: 5pm \n\n\n\nLocation: LWBC Sanctuary \n\n\n\n*Turkey will be provided!* \n\n\n\nA sign-up to attend and for sides is in the foyer.  
URL:https://lwbctriad.org/events-plugin/church-wide-thanksgiving-dinner/
ATTACH;FMTTYPE=image/png:https://lwbctriad.org/wp-content/uploads/2025/11/Thanksgiving-Dinner-scaled.png
END:VEVENT
BEGIN:VEVENT
DTSTART;TZID=America/New_York:20251123T160000
DTEND;TZID=America/New_York:20251123T180000
DTSTAMP:20260423T192306
CREATED:20251111T191956Z
LAST-MODIFIED:20251111T191958Z
UID:2921-1763913600-1763920800@lwbctriad.org
SUMMARY:Kids Christmas Choir Involvement
DESCRIPTION:LWBC Kids sign up to participate in our Choir’s Christmas performance here at LWBC on December 14th as well as our Christmas Eve service.  \n\n\n\nChristmas Choral Presentation (Dec. 14) \n\n\n\nContact Becky Spence @ 336-457-2539 to signup for involvement in the December 14th performance. \n\n\n\nPractices will be held on November 23rd at 4pm in the SS Building and on December 7th directly after the am service. \n\n\n\nChristmas Eve Service \n\n\n\nReach out to Tammy McKinney at 336-613-5051 and sign-up in the Foyer for your participation in the Christmas Eve service. *Practice schedule coming soon!*
URL:https://lwbctriad.org/events-plugin/kids-christmas-choir-involvement/
ATTACH;FMTTYPE=image/png:https://lwbctriad.org/wp-content/uploads/2025/11/Childrens-Choir-scaled.png
END:VEVENT
BEGIN:VEVENT
DTSTART;TZID=America/New_York:20251118T173000
DTEND;TZID=America/New_York:20251118T193000
DTSTAMP:20260423T192306
CREATED:20251111T191350Z
LAST-MODIFIED:20251111T191353Z
UID:2915-1763487000-1763494200@lwbctriad.org
SUMMARY:Mens Ministry Event
DESCRIPTION:Men\, come join us on November 18th @ 5:30pm here at LWBC for a fun night of BBQ\, Bible\, and Bowling!  \n\n\n\nSign-up in the foyer! 
URL:https://lwbctriad.org/events-plugin/mens-ministry-event/
ATTACH;FMTTYPE=image/png:https://lwbctriad.org/wp-content/uploads/2025/11/BBQ-Bible-Bowling-scaled.png
END:VEVENT
BEGIN:VEVENT
DTSTART;TZID=America/New_York:20251116T091500
DTEND;TZID=America/New_York:20251116T110000
DTSTAMP:20260423T192306
CREATED:20251013T194313Z
LAST-MODIFIED:20251013T194314Z
UID:2895-1763284500-1763290800@lwbctriad.org
SUMMARY:Operation Christmas Child
DESCRIPTION:We are collecting both O.C.C. boxes and donated items this year! Boxes and labels can be found in the foyer along with flyers of suggested gift items.  \n\n\n\n*Donated items to be added to boxes are due by November 2nd and we will be collecting the items in the Fellowship Hall on the rectangular tables. \n\n\n\n(Our children will be packing boxes during SNK) \n\n\n\n*Pre-filled boxes are due by Sunday morning\, November 16th.*  \n\n\n\nA donation of $10 is critical to cover shipping costs. You can give directly online or by making a check out to our church designating Shoebox Ministry on the memo line.
URL:https://lwbctriad.org/events-plugin/operation-christmas-child/
ATTACH;FMTTYPE=image/png:https://lwbctriad.org/wp-content/uploads/2025/10/IMG_4657-2.png
END:VEVENT
BEGIN:VEVENT
DTSTART;TZID=America/New_York:20251114T173000
DTEND;TZID=America/New_York:20251114T200000
DTSTAMP:20260423T192306
CREATED:20251013T195848Z
LAST-MODIFIED:20251013T195849Z
UID:2904-1763141400-1763150400@lwbctriad.org
SUMMARY:Parent's Night Out!
DESCRIPTION:Friday\, November 14th from 5:30pm-8:00pm \n\n\n\nThis event is for all LWBC kids ages K-5th Grade. \n\n\n\nEnjoy a night out together while we take care of the kids! \n\n\n\nYour kids will enjoy music\, games\, and activities! We will have a pizza dinner for them as well.  \n\n\n\nSign-up by November 9th in the Foyer!
URL:https://lwbctriad.org/events-plugin/parents-night-out-2/
ATTACH;FMTTYPE=image/png:https://lwbctriad.org/wp-content/uploads/2025/10/Parents-Night-Out-scaled.png
END:VEVENT
BEGIN:VEVENT
DTSTART;TZID=America/New_York:20251102T000000
DTEND;TZID=America/New_York:20251102T000000
DTSTAMP:20260423T192306
CREATED:20251013T195457Z
LAST-MODIFIED:20251013T195457Z
UID:2901-1762041600-1762041600@lwbctriad.org
SUMMARY:Fall Back
DESCRIPTION:Set your clocks back an hour
URL:https://lwbctriad.org/events-plugin/fall-back/
ATTACH;FMTTYPE=image/png:https://lwbctriad.org/wp-content/uploads/2025/10/Fall-Back-scaled.png
END:VEVENT
BEGIN:VEVENT
DTSTART;TZID=America/New_York:20251026T170000
DTEND;TZID=America/New_York:20251026T190000
DTSTAMP:20260423T192306
CREATED:20251013T193810Z
LAST-MODIFIED:20251013T193810Z
UID:2892-1761498000-1761505200@lwbctriad.org
SUMMARY:Hymn Sing
DESCRIPTION:Join us for our hymn sing on October 26th at 5pm!  \n\n\n\n*There will be no SNK on this night so the children can join!*
URL:https://lwbctriad.org/events-plugin/hymn-sing/
ATTACH;FMTTYPE=image/png:https://lwbctriad.org/wp-content/uploads/2025/10/Hymn-Sing-scaled.png
END:VEVENT
BEGIN:VEVENT
DTSTART;TZID=America/New_York:20251026T091500
DTEND;TZID=America/New_York:20251026T110000
DTSTAMP:20260423T192306
CREATED:20251013T195017Z
LAST-MODIFIED:20251013T195018Z
UID:2898-1761470100-1761476400@lwbctriad.org
SUMMARY:Winter Coat & Clothing Drive
DESCRIPTION:The Missions Committee will be collecting winter clothing and coats for the homeless in our community. A collection bin will be located in the Fellowship Hall.  \n\n\n\nItems will start to be distributed in November. 
URL:https://lwbctriad.org/events-plugin/winter-coat-clothing-drive/
ATTACH;FMTTYPE=image/png:https://lwbctriad.org/wp-content/uploads/2025/10/Winter-Coat-Drive.png
END:VEVENT
BEGIN:VEVENT
DTSTART;TZID=America/New_York:20251026T083000
DTEND;TZID=America/New_York:20251026T120000
DTSTAMP:20260423T192306
CREATED:20251013T193510Z
LAST-MODIFIED:20251013T193511Z
UID:2889-1761467400-1761480000@lwbctriad.org
SUMMARY:Baby Bottle Campaign for Pregnancy Network
DESCRIPTION:We are collecting loose change and/or bills in raising support for the Pregnancy Network. Help support moms in choosing life!  \n\n\n\nEmpty Baby Bottles can be found in the foyer!  \n\n\n\nAll filled baby bottle donations need to be returned by Sunday\, October 26th.
URL:https://lwbctriad.org/events-plugin/baby-bottle-campaign-for-pregnancy-network/
ATTACH;FMTTYPE=image/png:https://lwbctriad.org/wp-content/uploads/2025/10/Baby-Bottles-scaled.png
END:VEVENT
BEGIN:VEVENT
DTSTART;TZID=America/New_York:20251011T170000
DTEND;TZID=America/New_York:20251011T193000
DTSTAMP:20260423T192306
CREATED:20250915T184622Z
LAST-MODIFIED:20250915T184623Z
UID:2881-1760202000-1760211000@lwbctriad.org
SUMMARY:MOTR Game Night
DESCRIPTION:Join us for Game Night and Dinner! \n\n\n\nOctober 11th \n\n\n\n5-7:30pm in the Fellowship Hall \n\n\n\nCatered Olive Garden Dinner will be served! \n\n\n\nSign up in the Foyer by Tuesday\, October 7th!
URL:https://lwbctriad.org/events-plugin/motr-game-night/
ATTACH;FMTTYPE=image/png:https://lwbctriad.org/wp-content/uploads/2025/09/MOTR-Ministry.png
END:VEVENT
BEGIN:VEVENT
DTSTART;TZID=America/New_York:20251011T170000
DTEND;TZID=America/New_York:20251011T190000
DTSTAMP:20260423T192306
CREATED:20250915T184321Z
LAST-MODIFIED:20250915T184322Z
UID:2878-1760202000-1760209200@lwbctriad.org
SUMMARY:Seniors On The Go
DESCRIPTION:Seniors on the Go are headed to Hillbilly Hideaway on Saturday\, October 11th!  \n\n\n\n4375 Pine Hall Road\, Walnut Cove\, NC \n\n\n\nDinner at 5pm \n\n\n\nWe will be meeting and leaving from the church at 3:00pm. We will be going to “Just Plain Country Store” to enjoy browsing and shopping before heading to dinner at Hillbilly Hideaway for our 5pm reservation time.  \n\n\n\nSign up sheet is located in the foyer.
URL:https://lwbctriad.org/events-plugin/seniors-on-the-go/
ATTACH;FMTTYPE=image/png:https://lwbctriad.org/wp-content/uploads/2025/09/Seniors-on-the-Go-scaled.png
END:VEVENT
BEGIN:VEVENT
DTSTART;TZID=America/New_York:20251004T160000
DTEND;TZID=America/New_York:20251004T180000
DTSTAMP:20260423T192306
CREATED:20250915T183254Z
LAST-MODIFIED:20250915T183255Z
UID:2872-1759593600-1759600800@lwbctriad.org
SUMMARY:Annual Fall Cookout
DESCRIPTION:Join us for our annual Fall Cookout\, BBQ Dinner and Fellowship! \n\n\n\nSaturday\, October 4th  \n\n\n\n4-6pm at the shelter! \n\n\n\nSign-up sheet for the cook-out is located in the foyer! 
URL:https://lwbctriad.org/events-plugin/annual-fall-cookout/
ATTACH;FMTTYPE=image/png:https://lwbctriad.org/wp-content/uploads/2025/09/Church-Cookout.png
END:VEVENT
BEGIN:VEVENT
DTSTART;TZID=America/New_York:20251004T150000
DTEND;TZID=America/New_York:20251004T170000
DTSTAMP:20260423T192306
CREATED:20250915T183753Z
LAST-MODIFIED:20250915T183754Z
UID:2875-1759590000-1759597200@lwbctriad.org
SUMMARY:Pumpkin Gospel Project
DESCRIPTION:Kids\, invite your friends and join us at 3pm on October 4th for our annual Pumpkin Gospel Project!  \n\n\n\nCome pick a pumpkin out of the “field” and get ready to carve your way through the Gospel. This is a hands on fun activity for the entire family! You will be able to take the lesson home to share with your neighbors and community. A sign-up to participate in this FREE family event will be in the foyer or by using the link below: \n\n\n\nhttps://lwbc.breezechms.com/form/1e60b4 \n\n\n\nDeadline to sign-up is September 28th so we know how many pumpkins to have in the “patch”!
URL:https://lwbctriad.org/events-plugin/pumpkin-gospel-project/
ATTACH;FMTTYPE=image/png:https://lwbctriad.org/wp-content/uploads/2025/09/Pumpkin-Gospel-Project.png
END:VEVENT
BEGIN:VEVENT
DTSTART;TZID=America/New_York:20250927T110000
DTEND;TZID=America/New_York:20250927T130000
DTSTAMP:20260423T192306
CREATED:20250821T185814Z
LAST-MODIFIED:20250821T185815Z
UID:2865-1758970800-1758978000@lwbctriad.org
SUMMARY:Womans Ministry Fallen For You Brunch
DESCRIPTION:The Women’s Ministry is hosting a “Fallin’ for You” brunch on Saturday\, September 27th from 11am-1pm here at LWBC.  \n\n\n\nThe deadline to register is Sunday\, August 31st.  \n\n\n\nIf you have any questions\, reach out to Tammy Nix @ 336-209-4910. 
URL:https://lwbctriad.org/events-plugin/womans-ministry-fallen-for-you-brunch/
ATTACH;FMTTYPE=image/png:https://lwbctriad.org/wp-content/uploads/2025/08/Womens-Ministry-Fall-Brunch.png
END:VEVENT
BEGIN:VEVENT
DTSTART;TZID=America/New_York:20250921T150000
DTEND;TZID=America/New_York:20250921T160000
DTSTAMP:20260423T192306
CREATED:20250915T182650Z
LAST-MODIFIED:20250915T182652Z
UID:2869-1758466800-1758470400@lwbctriad.org
SUMMARY:Children Ministry Meeting
DESCRIPTION:On Sunday\, September 21st at 3pm we will be holding an informative meeting for the Children’s Ministry. This meeting is for all parents/guardians\, volunteers\, and those who are interested in serving in any capacity in Children’s Ministry. We will be discussing and reviewing the Policies and Procedures for the 2025-2026 year and sharing some exciting things that will be taking place this year!  \n\n\n\n*All volunteers must go over the policies and procedures to serve.* \n\n\n\nContact Ashley Wike @ ashley.wike@lwbctriad.org with any questions.
URL:https://lwbctriad.org/events-plugin/children-ministry-meeting/
ATTACH;FMTTYPE=image/png:https://lwbctriad.org/wp-content/uploads/2025/09/Childrens-Ministry-Meeting.png
END:VEVENT
BEGIN:VEVENT
DTSTART;TZID=America/New_York:20250906T130000
DTEND;TZID=America/New_York:20250906T150000
DTSTAMP:20260423T192306
CREATED:20250821T174813Z
LAST-MODIFIED:20250821T174814Z
UID:2856-1757163600-1757170800@lwbctriad.org
SUMMARY:LWBC Kids Mini Golf
DESCRIPTION:LWBC Kids join us as we “get back into the swing of things and kick-off a new Sunday School year!”  \n\n\n\nWhen: Saturday\, September 6th @ 1pm \n\n\n\nWhere: Partee Shack \n\n\n\n3712 S Holden Rd\, Greensboro\, NC 27406 \n\n\n\nCost: LWBC Kids FREE! \n\n\n\nAdults: $15 per ticket \n\n\n\nRSVP by THIS Sunday\, August 24th to Ashley @ ashley.wike@lwbctriad.org
URL:https://lwbctriad.org/events-plugin/lwbc-kids-mini-golf/
LOCATION:Partee Shack\, 3712 S Holden Rd\, Greensboro\, North Carolina\, 27406\, United States
ATTACH;FMTTYPE=image/png:https://lwbctriad.org/wp-content/uploads/2025/08/Partee-Shack.png
END:VEVENT
BEGIN:VEVENT
DTSTART;TZID=America/New_York:20250831T000000
DTEND;TZID=America/New_York:20250831T000000
DTSTAMP:20260423T192306
CREATED:20250518T030013Z
LAST-MODIFIED:20250518T030127Z
UID:2830-1756598400-1756598400@lwbctriad.org
SUMMARY:Labor Day ( No PM Activities)
DESCRIPTION:Happy Labor Day! No PM Activities August 31st.
URL:https://lwbctriad.org/events-plugin/labor-day-no-pm-activities/
ATTACH;FMTTYPE=image/png:https://lwbctriad.org/wp-content/uploads/2025/05/Labor-Day.png
END:VEVENT
BEGIN:VEVENT
DTSTART;TZID=America/New_York:20250823T140000
DTEND;TZID=America/New_York:20250823T160000
DTSTAMP:20260423T192306
CREATED:20250518T025758Z
LAST-MODIFIED:20250821T174950Z
UID:2828-1755957600-1755964800@lwbctriad.org
SUMMARY:Back To School Bash
DESCRIPTION:THIS SATURDAY!!! \n\n\n\nLWBC Kids  \n\n\n\nDate: Saturday\, August 23rd \n\n\n\nTime: 2pm-4pm \n\n\n\nWhere: LWBC Back Lawn & Shelter \n\n\n\n*Wear a modest bathing suit\, bring a towel\, and get ready to have a splashin’ good time as we kick-off a new school year together!* \n\n\n\nDon’t forget to invite a friend!
URL:https://lwbctriad.org/events-plugin/back-to-school-bash-2/
ATTACH;FMTTYPE=image/png:https://lwbctriad.org/wp-content/uploads/2025/05/Back-to-School.png
END:VEVENT
BEGIN:VEVENT
DTSTART;TZID=America/New_York:20250721T080000
DTEND;TZID=America/New_York:20250725T170000
DTSTAMP:20260423T192306
CREATED:20250518T025522Z
LAST-MODIFIED:20250518T025523Z
UID:2826-1753084800-1753462800@lwbctriad.org
SUMMARY:Kids Camp
DESCRIPTION:Mark your calendars! \n\n\n\nCentriKid Camp @ Ridgecrest \n\n\n\nDate: July 21st-July25th \n\n\n\nAges: Completed 2nd Grade through 6th Grade \n\n\n\n$369 per participant
URL:https://lwbctriad.org/events-plugin/kids-camp/
ATTACH;FMTTYPE=image/png:https://lwbctriad.org/wp-content/uploads/2025/05/Centrikid-2025.png
END:VEVENT
BEGIN:VEVENT
DTSTART;TZID=America/New_York:20250706T170000
DTEND;TZID=America/New_York:20250706T190000
DTSTAMP:20260423T192307
CREATED:20250518T024915Z
LAST-MODIFIED:20250627T192449Z
UID:2824-1751821200-1751828400@lwbctriad.org
SUMMARY:Church Cookout
DESCRIPTION:Come out for our Church Cookout on July 6th from 5:00 to 7:00 PM! Enjoy great food\, fun activities\, and fellowship with our church family.
URL:https://lwbctriad.org/events-plugin/church-cookout/
LOCATION:Living Water Baptist Church\, 9516 W. Market Street\, Colfax\, North Carolina\, 27235\, United States
ATTACH;FMTTYPE=image/png:https://lwbctriad.org/wp-content/uploads/2025/05/IMG_3142.png
END:VEVENT
END:VCALENDAR