BEGIN:VCALENDAR
VERSION:2.0
PRODID:-//Living Water Baptist Church - ECPv6.15.20//NONSGML v1.0//EN
CALSCALE:GREGORIAN
METHOD:PUBLISH
X-WR-CALNAME:Living Water Baptist Church
X-ORIGINAL-URL:https://lwbctriad.org
X-WR-CALDESC:Events for Living Water Baptist Church
REFRESH-INTERVAL;VALUE=DURATION:PT1H
X-Robots-Tag:noindex
X-PUBLISHED-TTL:PT1H
BEGIN:VTIMEZONE
TZID:America/New_York
BEGIN:DAYLIGHT
TZOFFSETFROM:-0500
TZOFFSETTO:-0400
TZNAME:EDT
DTSTART:20250309T070000
END:DAYLIGHT
BEGIN:STANDARD
TZOFFSETFROM:-0400
TZOFFSETTO:-0500
TZNAME:EST
DTSTART:20251102T060000
END:STANDARD
BEGIN:DAYLIGHT
TZOFFSETFROM:-0500
TZOFFSETTO:-0400
TZNAME:EDT
DTSTART:20260308T070000
END:DAYLIGHT
BEGIN:STANDARD
TZOFFSETFROM:-0400
TZOFFSETTO:-0500
TZNAME:EST
DTSTART:20261101T060000
END:STANDARD
BEGIN:DAYLIGHT
TZOFFSETFROM:-0500
TZOFFSETTO:-0400
TZNAME:EDT
DTSTART:20270314T070000
END:DAYLIGHT
BEGIN:STANDARD
TZOFFSETFROM:-0400
TZOFFSETTO:-0500
TZNAME:EST
DTSTART:20271107T060000
END:STANDARD
END:VTIMEZONE
BEGIN:VEVENT
DTSTART;TZID=America/New_York:20260328T093000
DTEND;TZID=America/New_York:20260328T113000
DTSTAMP:20260423T135625
CREATED:20260320T000706Z
LAST-MODIFIED:20260320T000707Z
UID:2956-1774690200-1774697400@lwbctriad.org
SUMMARY:Easter Family Event
DESCRIPTION:Saturday\, March 28th \n\n\n\n9:30am-11:30am \n\n\n\nAll ages welcome!  \n\n\n\nInvite a friend! \n\n\n\nJoin us for a special Holy Week Family Event as we prepare our hearts for Easter together.  \n\n\n\nWe will create a Holy Week Craft to guide us through the story of Jesus’ final days from celebration to sacrifice to resurrection joy. These simple symbols will help your family journey prayerfully through Holy Week and prepare your hearts for Easter. \n\n\n\nThis is a floating event for the entire family that includes making a craft\, devotional booklet\, and a special Easter snack for the entire family. 
URL:https://lwbctriad.org/events-plugin/easter-family-event/
ATTACH;FMTTYPE=image/jpeg:https://lwbctriad.org/wp-content/uploads/2026/03/IMG_6202.jpg
END:VEVENT
END:VCALENDAR