BEGIN:VCALENDAR
VERSION:2.0
PRODID:-//Living Water Baptist Church - ECPv6.15.20//NONSGML v1.0//EN
CALSCALE:GREGORIAN
METHOD:PUBLISH
X-WR-CALNAME:Living Water Baptist Church
X-ORIGINAL-URL:https://lwbctriad.org
X-WR-CALDESC:Events for Living Water Baptist Church
REFRESH-INTERVAL;VALUE=DURATION:PT1H
X-Robots-Tag:noindex
X-PUBLISHED-TTL:PT1H
BEGIN:VTIMEZONE
TZID:America/New_York
BEGIN:DAYLIGHT
TZOFFSETFROM:-0500
TZOFFSETTO:-0400
TZNAME:EDT
DTSTART:20240310T070000
END:DAYLIGHT
BEGIN:STANDARD
TZOFFSETFROM:-0400
TZOFFSETTO:-0500
TZNAME:EST
DTSTART:20241103T060000
END:STANDARD
BEGIN:DAYLIGHT
TZOFFSETFROM:-0500
TZOFFSETTO:-0400
TZNAME:EDT
DTSTART:20250309T070000
END:DAYLIGHT
BEGIN:STANDARD
TZOFFSETFROM:-0400
TZOFFSETTO:-0500
TZNAME:EST
DTSTART:20251102T060000
END:STANDARD
BEGIN:DAYLIGHT
TZOFFSETFROM:-0500
TZOFFSETTO:-0400
TZNAME:EDT
DTSTART:20260308T070000
END:DAYLIGHT
BEGIN:STANDARD
TZOFFSETFROM:-0400
TZOFFSETTO:-0500
TZNAME:EST
DTSTART:20261101T060000
END:STANDARD
END:VTIMEZONE
BEGIN:VEVENT
DTSTART;TZID=America/New_York:20251123T160000
DTEND;TZID=America/New_York:20251123T180000
DTSTAMP:20260423T191710
CREATED:20251111T191956Z
LAST-MODIFIED:20251111T191958Z
UID:2921-1763913600-1763920800@lwbctriad.org
SUMMARY:Kids Christmas Choir Involvement
DESCRIPTION:LWBC Kids sign up to participate in our Choir’s Christmas performance here at LWBC on December 14th as well as our Christmas Eve service.  \n\n\n\nChristmas Choral Presentation (Dec. 14) \n\n\n\nContact Becky Spence @ 336-457-2539 to signup for involvement in the December 14th performance. \n\n\n\nPractices will be held on November 23rd at 4pm in the SS Building and on December 7th directly after the am service. \n\n\n\nChristmas Eve Service \n\n\n\nReach out to Tammy McKinney at 336-613-5051 and sign-up in the Foyer for your participation in the Christmas Eve service. *Practice schedule coming soon!*
URL:https://lwbctriad.org/events-plugin/kids-christmas-choir-involvement/
ATTACH;FMTTYPE=image/png:https://lwbctriad.org/wp-content/uploads/2025/11/Childrens-Choir-scaled.png
END:VEVENT
BEGIN:VEVENT
DTSTART;TZID=America/New_York:20251123T170000
DTEND;TZID=America/New_York:20251123T190000
DTSTAMP:20260423T191710
CREATED:20251111T191650Z
LAST-MODIFIED:20251111T191651Z
UID:2918-1763917200-1763924400@lwbctriad.org
SUMMARY:Church-wide Thanksgiving Dinner
DESCRIPTION:When: Sunday\, November 23rd \n\n\n\nTime: 5pm \n\n\n\nLocation: LWBC Sanctuary \n\n\n\n*Turkey will be provided!* \n\n\n\nA sign-up to attend and for sides is in the foyer.  
URL:https://lwbctriad.org/events-plugin/church-wide-thanksgiving-dinner/
ATTACH;FMTTYPE=image/png:https://lwbctriad.org/wp-content/uploads/2025/11/Thanksgiving-Dinner-scaled.png
END:VEVENT
END:VCALENDAR