BEGIN:VCALENDAR
VERSION:2.0
PRODID:-//Living Water Baptist Church - ECPv6.15.20//NONSGML v1.0//EN
CALSCALE:GREGORIAN
METHOD:PUBLISH
X-ORIGINAL-URL:https://lwbctriad.org
X-WR-CALDESC:Events for Living Water Baptist Church
REFRESH-INTERVAL;VALUE=DURATION:PT1H
X-Robots-Tag:noindex
X-PUBLISHED-TTL:PT1H
BEGIN:VTIMEZONE
TZID:America/New_York
BEGIN:DAYLIGHT
TZOFFSETFROM:-0500
TZOFFSETTO:-0400
TZNAME:EDT
DTSTART:20230312T070000
END:DAYLIGHT
BEGIN:STANDARD
TZOFFSETFROM:-0400
TZOFFSETTO:-0500
TZNAME:EST
DTSTART:20231105T060000
END:STANDARD
BEGIN:DAYLIGHT
TZOFFSETFROM:-0500
TZOFFSETTO:-0400
TZNAME:EDT
DTSTART:20240310T070000
END:DAYLIGHT
BEGIN:STANDARD
TZOFFSETFROM:-0400
TZOFFSETTO:-0500
TZNAME:EST
DTSTART:20241103T060000
END:STANDARD
BEGIN:DAYLIGHT
TZOFFSETFROM:-0500
TZOFFSETTO:-0400
TZNAME:EDT
DTSTART:20250309T070000
END:DAYLIGHT
BEGIN:STANDARD
TZOFFSETFROM:-0400
TZOFFSETTO:-0500
TZNAME:EST
DTSTART:20251102T060000
END:STANDARD
END:VTIMEZONE
BEGIN:VEVENT
DTSTART;TZID=America/New_York:20240609T103000
DTEND;TZID=America/New_York:20240609T113000
DTSTAMP:20260424T182741
CREATED:20240516T140439Z
LAST-MODIFIED:20240516T140440Z
UID:2600-1717929000-1717932600@lwbctriad.org
SUMMARY:Graduation Sunday
DESCRIPTION:Will be held on June 9th during the AM Service. \n\n\n\nIf you have a child that is graduating\, please email Ashley  \n\n\n\n@ ashley.wike@lwbctriad.org as soon as possible.*
URL:https://lwbctriad.org/events-plugin/graduation-sunday/
LOCATION:Living Water Baptist Church\, 9516 W. Market Street\, Colfax\, North Carolina\, 27235\, United States
ATTACH;FMTTYPE=image/png:https://lwbctriad.org/wp-content/uploads/2024/05/IMG_8784.png
END:VEVENT
END:VCALENDAR