BEGIN:VCALENDAR
VERSION:2.0
PRODID:-//Living Water Baptist Church - ECPv6.15.20//NONSGML v1.0//EN
CALSCALE:GREGORIAN
METHOD:PUBLISH
X-ORIGINAL-URL:https://lwbctriad.org
X-WR-CALDESC:Events for Living Water Baptist Church
REFRESH-INTERVAL;VALUE=DURATION:PT1H
X-Robots-Tag:noindex
X-PUBLISHED-TTL:PT1H
BEGIN:VTIMEZONE
TZID:America/New_York
BEGIN:DAYLIGHT
TZOFFSETFROM:-0500
TZOFFSETTO:-0400
TZNAME:EDT
DTSTART:20230312T070000
END:DAYLIGHT
BEGIN:STANDARD
TZOFFSETFROM:-0400
TZOFFSETTO:-0500
TZNAME:EST
DTSTART:20231105T060000
END:STANDARD
BEGIN:DAYLIGHT
TZOFFSETFROM:-0500
TZOFFSETTO:-0400
TZNAME:EDT
DTSTART:20240310T070000
END:DAYLIGHT
BEGIN:STANDARD
TZOFFSETFROM:-0400
TZOFFSETTO:-0500
TZNAME:EST
DTSTART:20241103T060000
END:STANDARD
BEGIN:DAYLIGHT
TZOFFSETFROM:-0500
TZOFFSETTO:-0400
TZNAME:EDT
DTSTART:20250309T070000
END:DAYLIGHT
BEGIN:STANDARD
TZOFFSETFROM:-0400
TZOFFSETTO:-0500
TZNAME:EST
DTSTART:20251102T060000
END:STANDARD
END:VTIMEZONE
BEGIN:VEVENT
DTSTART;TZID=America/New_York:20240208T183000
DTEND;TZID=America/New_York:20240208T193000
DTSTAMP:20260424T232734
CREATED:20240129T203624Z
LAST-MODIFIED:20240129T203624Z
UID:2551-1707417000-1707420600@lwbctriad.org
SUMMARY:Young Couples Bible Study " Uncommon Marriage"
DESCRIPTION:Join us for this young couples Bible Study as we learn about lasting love and overcoming life’s obstacles.  \n\n\n\n6 week study led by Rob Worrell \n\n\n\nChildcare is provided. \n\n\n\n*Please specify if needed on the sign-up sheet.* \n\n\n\nSign-up sheet is located in the foyer!
URL:https://lwbctriad.org/events-plugin/young-couples-bible-study-uncommon-marriage/
LOCATION:Living Water Baptist Church\, 9516 W. Market Street\, Colfax\, North Carolina\, 27235\, United States
ATTACH;FMTTYPE=image/png:https://lwbctriad.org/wp-content/uploads/2024/01/IMG_7802.png
END:VEVENT
END:VCALENDAR